BEGIN:VCALENDAR
VERSION:2.0
PRODID:-//NLJUG - Nederlandse Java User Group - ECPv6.15.20//NONSGML v1.0//EN
CALSCALE:GREGORIAN
METHOD:PUBLISH
X-WR-CALNAME:NLJUG - Nederlandse Java User Group
X-ORIGINAL-URL:https://nljug.org
X-WR-CALDESC:Events for NLJUG - Nederlandse Java User Group
REFRESH-INTERVAL;VALUE=DURATION:PT1H
X-Robots-Tag:noindex
X-PUBLISHED-TTL:PT1H
BEGIN:VTIMEZONE
TZID:Europe/Amsterdam
BEGIN:DAYLIGHT
TZOFFSETFROM:+0100
TZOFFSETTO:+0200
TZNAME:CEST
DTSTART:20220327T010000
END:DAYLIGHT
BEGIN:STANDARD
TZOFFSETFROM:+0200
TZOFFSETTO:+0100
TZNAME:CET
DTSTART:20221030T010000
END:STANDARD
BEGIN:DAYLIGHT
TZOFFSETFROM:+0100
TZOFFSETTO:+0200
TZNAME:CEST
DTSTART:20230326T010000
END:DAYLIGHT
BEGIN:STANDARD
TZOFFSETFROM:+0200
TZOFFSETTO:+0100
TZNAME:CET
DTSTART:20231029T010000
END:STANDARD
BEGIN:DAYLIGHT
TZOFFSETFROM:+0100
TZOFFSETTO:+0200
TZNAME:CEST
DTSTART:20240331T010000
END:DAYLIGHT
BEGIN:STANDARD
TZOFFSETFROM:+0200
TZOFFSETTO:+0100
TZNAME:CET
DTSTART:20241027T010000
END:STANDARD
BEGIN:DAYLIGHT
TZOFFSETFROM:+0100
TZOFFSETTO:+0200
TZNAME:CEST
DTSTART:20250330T010000
END:DAYLIGHT
BEGIN:STANDARD
TZOFFSETFROM:+0200
TZOFFSETTO:+0100
TZNAME:CET
DTSTART:20251026T010000
END:STANDARD
END:VTIMEZONE
BEGIN:VEVENT
DTSTART;TZID=Europe/Amsterdam:20231205T080000
DTEND;TZID=Europe/Amsterdam:20231205T170000
DTSTAMP:20260423T104812
CREATED:20231205T092326Z
LAST-MODIFIED:20231205T092326Z
UID:8983-1701763200-1701795600@nljug.org
SUMMARY:Global AI Conference - December 12th\, Haarlem\, Netherlands
DESCRIPTION:Join the local event for the Global AI Conference in the Netherlands for an epic in-person gathering of beginner AI enthusiasts. \nRegister here \n\n\n\n\n\n\n\nDate and time\n\n\n\nTuesday\, December 12 · 5 – 9:30pm CET \n\n\n\n\n\n\n\n\n\n\n\nLocation\n\n\nReshift Digital\, Nijverheidsweg\, Haarlem\, Netherlands \n\nNijverheidsweg 18\, 2031 CP Haarlem \n\n\n\n\n\n\n\n\n\n\nAgenda\n\n\n\n\n\n17:00 – 17:30  –  Walk-in \n\n\n\n\n17:30 – 18:30  –  Food\, Drinks & Networking \n\n\n\n\n18:30 – 19:15  – Session – Neural Networks Demystified by Roelant Dieben \n\n\n\n\n19:15 – 19:30  –  Break \n\n\n\n\n19:30 – 20:45  –  Workshop LLM & prompt engineering \n\n\n\n\n20:45 – 21:30  – Drinks \n\n\n\n\n21:30  –  Closing \n\n\n\n\n\n  \n\n\n\nGlobal AI Conference – Netherlands \nAre you intrigued by the limitless possibilities of artificial intelligence but find yourself at the starting line of this exciting journey? Join us for an immersive experience tailored just for you! \nThe local event in the Netherlands for the Global AI Conference is held in the beautiful city of Haarlem\, Netherlands! This in-person event is powered by the Teqnation community. \nSince it is so much fun tinkering with AI\, you will do most of the heavy lifting yourself during an amazing workshop on large language models and prompt engineering from the Global AI community. \nIn addition\, our speaker will unravel the mysteries of neural networks for you where he will guide you through the fundamentals of this core AI concept\, breaking down complex ideas into digestible insights. Whether you’re a student\, professional\, or simply curious about AI\, this session is designed to demystify neural networks and set the stage for your AI adventure. \n  \n\nRegister now!
URL:https://nljug.org/evenement/global-ai-conference-december-12th-haarlem-netherlands/
CATEGORIES:Partner events
ATTACH;FMTTYPE=image/jpeg:https://nljug.org/wp-content/uploads/2023/12/OpenAI-meetup-TEQnation.jpeg
END:VEVENT
BEGIN:VEVENT
DTSTART;TZID=Europe/Amsterdam:20240927T080000
DTEND;TZID=Europe/Amsterdam:20240927T170000
DTSTAMP:20260423T104812
CREATED:20240927T125928Z
LAST-MODIFIED:20240927T125928Z
UID:9808-1727424000-1727456400@nljug.org
SUMMARY:Neo4J Meetup: From Knowledge to Insights with Neo4j and Machine Learning
DESCRIPTION:Thursday \, Oct 10 · 6:00 PM  Meetup : From Knowledge to Insights with Neo4j and Machine Learning\n\n\nDEVOXX 2024 is around the corner in 2 weeks in Antwerp. To complement this great event Neo4j and Hopsworks invite you to a great meetup in Antwerp\, just a short tram ride away from DEVOXX. \n\n\n\nDuring this meetup there are 3 fantastic talks: \nMichael Hunger\, lead product innovation and developer strategy at Neo4j\, will explain the role Neo4j is playing in the GenAI journey. \nWe all know that LLMs hallucinate and RAG can help by providing current\, relevant information to the model for generative tasks.\nBut can we do better than just vector retrievals? A knowledge graph can represent data (and reality) at high fidelity and can make this rich context available based on the user’s questions. But how to turn your text data into graphs data structures?\nHere is where the language skills of LLM can help to extract entities and relationships from text\, which you then can correlate with sources\, cluster into communities and navigate while answering the questions.\nIn this talk we will both dive into Microsoft Research’s GraphRAG approach as well as run the indexing and search live with Neo4j and LangChain. \nRik Van Bruggen\, VP EMEA for Hopsworks will illustrate how you can use graph embeddings in a broader Machine Learning system \nGraphs are great – and Rik would probably be the very last person to doubt that. As a native Antwerpian and a decade-long graph enthusiast\, Rik will show you how you can use the power of Neo4j together with the Hopsworks Machine Learning Operations (MLOps) platform to bring the power of the graph to life. After all\, it’s great to get graph insights\, but unless you fully operationalise them in a production system\, it does not provide the business value it deserves. \nQuinten Rosseel\, freelance Machine Learning Engineer\, is diving headfirst into the mashup of AI agents\, generative audio/video\, and healthcare know-how. \nQuinten will demonstrate Mina\, an LLM-powered Q&A chatbot built with Neo4j and LangChain\, that’s already answering medical questions via chat and voice for UZ Brussel. He’ll also dish on his work with Wobby.ai (AI agents) and Anam.ai (generative AI personas)\, and how melting today’s AI tech could lead to healthcare experiences sharp enough to make your doctor sweat. \nFor more info see here
URL:https://nljug.org/evenement/neo4j-meetup-from-knowledge-to-insights-with-neo4j-and-machine-learning/
CATEGORIES:Partner events
ATTACH;FMTTYPE=image/webp:https://nljug.org/wp-content/uploads/2024/09/600_523709401.webp
END:VEVENT
BEGIN:VEVENT
DTSTART;TZID=Europe/Amsterdam:20241002T080000
DTEND;TZID=Europe/Amsterdam:20241106T170000
DTSTAMP:20260423T104812
CREATED:20241016T075713Z
LAST-MODIFIED:20241016T075713Z
UID:9937-1727856000-1730912400@nljug.org
SUMMARY:Payara Hackathon – Generative AI on Jakarta EE 0 .
DESCRIPTION:Showcase your creativity\, technical skills\, and visionary ideas as you build the future of AI-powered enterprise applications. Sign up for free for the Payara Hackathon – Generative AI on Jakarta EE. Virtual Event: 2 October – 6 November 2024.\nThe Payara Hackathon is on! Make sure to sign up at the bottom of this page & then… get coding!\nHackathon AI lightbulb\nCreate an app (new or existing) using Generative AI on Jakarta EE for a chance to win £3\,000 in prize money for the winner\, with £2\,000 and £1\,000 prizes for runners up.\nWho said that enterprise Java is a thing of the past? We are challenging you to push the boundaries of enterprise Java development to create futureproof applications. This hackathon gives you the chance to create and showcase ground-breaking applications that harness the power of Generative AI within the Jakarta EE platform. Whether you’re passionate about AI or a driven Java developer\, this is your chance to innovate and help us showcase how Jakarta EE is a valuable solution for developing tomorrow’s apps.
URL:https://nljug.org/evenement/payara-hackathon-generative-ai-on-jakarta-ee-0/
CATEGORIES:Partner events
ATTACH;FMTTYPE=image/png:https://nljug.org/wp-content/uploads/2024/10/Logo-1.png
END:VEVENT
END:VCALENDAR