BEGIN:VCALENDAR
VERSION:2.0
PRODID:-//NLJUG - Nederlandse Java User Group - ECPv6.15.20//NONSGML v1.0//EN
CALSCALE:GREGORIAN
METHOD:PUBLISH
X-ORIGINAL-URL:https://nljug.org
X-WR-CALDESC:Events for NLJUG - Nederlandse Java User Group
REFRESH-INTERVAL;VALUE=DURATION:PT1H
X-Robots-Tag:noindex
X-PUBLISHED-TTL:PT1H
BEGIN:VTIMEZONE
TZID:Europe/Amsterdam
BEGIN:DAYLIGHT
TZOFFSETFROM:+0100
TZOFFSETTO:+0200
TZNAME:CEST
DTSTART:20180325T010000
END:DAYLIGHT
BEGIN:STANDARD
TZOFFSETFROM:+0200
TZOFFSETTO:+0100
TZNAME:CET
DTSTART:20181028T010000
END:STANDARD
BEGIN:DAYLIGHT
TZOFFSETFROM:+0100
TZOFFSETTO:+0200
TZNAME:CEST
DTSTART:20190331T010000
END:DAYLIGHT
BEGIN:STANDARD
TZOFFSETFROM:+0200
TZOFFSETTO:+0100
TZNAME:CET
DTSTART:20191027T010000
END:STANDARD
BEGIN:DAYLIGHT
TZOFFSETFROM:+0100
TZOFFSETTO:+0200
TZNAME:CEST
DTSTART:20200329T010000
END:DAYLIGHT
BEGIN:STANDARD
TZOFFSETFROM:+0200
TZOFFSETTO:+0100
TZNAME:CET
DTSTART:20201025T010000
END:STANDARD
END:VTIMEZONE
BEGIN:VEVENT
DTSTART;VALUE=DATE:20190618
DTEND;VALUE=DATE:20190621
DTSTAMP:20260424T070534
CREATED:20190509T081032Z
LAST-MODIFIED:20190509T110728Z
UID:4096-1560816000-1561075199@nljug.org
SUMMARY:Accelerating Java Applications - jPinpoint
DESCRIPTION:3 days: 18-20 June 2019 | Covers Java 8&11 \nIn the jPinpoint Accelerating Java applications training you learn to structurally improve the speed of Java applications. The training is aimed at finding\, removing and preventing of speed limitations in Java applications. Instructor: Jeroen Borgers\, Java performance consultant. \nAudience\nThis training is aimed at experienced Java developers\, architects\, performance testers and operators. Java programming experience is an advantage but not required. \nTraining setup\nIn this intensive training we combine about 50% theory with 50% hands-on. Maximum 12 participants. \nWhat will I learn?\n– recognize the most common Java performance problems;\n– deal with performance requirements\, measurements and the subjective experience;\n– put performance in agile\, devOps\, microservices and architecture context;\n– monitor/tune JVM\, heap and garbage collector\, incl. newest gc;\n– profile applications with tools to pinpoint performance issues;\n– how to solve most occurring problems with advanced tools;\n– new: you will get a copy of the book: Java Performance. \nWho participated?\nTop Java architects\, developers\, performance testers and operators of a.o. Rabobank\, KLM\, bol.com\, DeltaLloyd/OHRA\, wehkamp.nl\, Triodos bank\, Atos\, Logica\, Trivento\, freelancers. Their average rating for this training: 8.3 out of 10. \nSubscribe & NLJUG Discount\nAs an NLJUG’er you will get an exclusive 10% discount. And the earlier you subscribe the better because if you subcribe before the 18th of May your discount will be as high as 15%. \nWant to subscribe? You can do it right here: \nSubscribe
URL:https://nljug.org/evenement/accelerating-java-applications-jpinpoint/
CATEGORIES:Partner events
ATTACH;FMTTYPE=image/png:https://nljug.org/wp-content/uploads/2019/05/logo.png
END:VEVENT
END:VCALENDAR