BEGIN:VCALENDAR
VERSION:2.0
PRODID:-//NLJUG - Nederlandse Java User Group - ECPv6.15.20//NONSGML v1.0//EN
CALSCALE:GREGORIAN
METHOD:PUBLISH
X-ORIGINAL-URL:https://nljug.org
X-WR-CALDESC:Events for NLJUG - Nederlandse Java User Group
REFRESH-INTERVAL;VALUE=DURATION:PT1H
X-Robots-Tag:noindex
X-PUBLISHED-TTL:PT1H
BEGIN:VTIMEZONE
TZID:Europe/Amsterdam
BEGIN:DAYLIGHT
TZOFFSETFROM:+0100
TZOFFSETTO:+0200
TZNAME:CEST
DTSTART:20180325T010000
END:DAYLIGHT
BEGIN:STANDARD
TZOFFSETFROM:+0200
TZOFFSETTO:+0100
TZNAME:CET
DTSTART:20181028T010000
END:STANDARD
BEGIN:DAYLIGHT
TZOFFSETFROM:+0100
TZOFFSETTO:+0200
TZNAME:CEST
DTSTART:20190331T010000
END:DAYLIGHT
BEGIN:STANDARD
TZOFFSETFROM:+0200
TZOFFSETTO:+0100
TZNAME:CET
DTSTART:20191027T010000
END:STANDARD
BEGIN:DAYLIGHT
TZOFFSETFROM:+0100
TZOFFSETTO:+0200
TZNAME:CEST
DTSTART:20200329T010000
END:DAYLIGHT
BEGIN:STANDARD
TZOFFSETFROM:+0200
TZOFFSETTO:+0100
TZNAME:CET
DTSTART:20201025T010000
END:STANDARD
END:VTIMEZONE
BEGIN:VEVENT
DTSTART;VALUE=DATE:20190618
DTEND;VALUE=DATE:20190621
DTSTAMP:20260424T083807
CREATED:20190509T081032Z
LAST-MODIFIED:20190509T110728Z
UID:4096-1560816000-1561075199@nljug.org
SUMMARY:Accelerating Java Applications - jPinpoint
DESCRIPTION:3 days: 18-20 June 2019 | Covers Java 8&11 \nIn the jPinpoint Accelerating Java applications training you learn to structurally improve the speed of Java applications. The training is aimed at finding\, removing and preventing of speed limitations in Java applications. Instructor: Jeroen Borgers\, Java performance consultant. \nAudience\nThis training is aimed at experienced Java developers\, architects\, performance testers and operators. Java programming experience is an advantage but not required. \nTraining setup\nIn this intensive training we combine about 50% theory with 50% hands-on. Maximum 12 participants. \nWhat will I learn?\n– recognize the most common Java performance problems;\n– deal with performance requirements\, measurements and the subjective experience;\n– put performance in agile\, devOps\, microservices and architecture context;\n– monitor/tune JVM\, heap and garbage collector\, incl. newest gc;\n– profile applications with tools to pinpoint performance issues;\n– how to solve most occurring problems with advanced tools;\n– new: you will get a copy of the book: Java Performance. \nWho participated?\nTop Java architects\, developers\, performance testers and operators of a.o. Rabobank\, KLM\, bol.com\, DeltaLloyd/OHRA\, wehkamp.nl\, Triodos bank\, Atos\, Logica\, Trivento\, freelancers. Their average rating for this training: 8.3 out of 10. \nSubscribe & NLJUG Discount\nAs an NLJUG’er you will get an exclusive 10% discount. And the earlier you subscribe the better because if you subcribe before the 18th of May your discount will be as high as 15%. \nWant to subscribe? You can do it right here: \nSubscribe
URL:https://nljug.org/evenement/accelerating-java-applications-jpinpoint/
CATEGORIES:Partner events
ATTACH;FMTTYPE=image/png:https://nljug.org/wp-content/uploads/2019/05/logo.png
END:VEVENT
BEGIN:VEVENT
DTSTART;TZID=Europe/Amsterdam:20190619T153000
DTEND;TZID=Europe/Amsterdam:20190619T200000
DTSTAMP:20260424T083807
CREATED:20190611T071339Z
LAST-MODIFIED:20190611T094907Z
UID:4177-1560958200-1560974400@nljug.org
SUMMARY:Java Summit - iSense
DESCRIPTION:Op 19 juni staat een splinternieuwe versie van de Java Summit op het programma. In de laatste Summit van iSense voor de zomerstop ga je met nieuwe inspiratie naar huis.\nVerschillende use-cases en invalshoeken komen aan bod. Wil je alles weten over de laatste trends in Java? Schrijf je dan snel in! \nMeer informatie op: https://events.isense.nl/java-summit \nUiteraard is ook deze Summit weer gratis te bezoeken en kun je zelf aangeven bij welke Summits je aanwezig wilt zijn. Hieronder vind je het programma van de Summit: \n15.30 – 16.30: Bram Starmans – Software-engineering vereist vakmanschap\nIn deze presentatie legt Bram Starmans uit waarom moderne software-engineering vakmanschap nodig heeft. Hij rechtvaardigt zijn uitspraak gebaseerd op verschillende trends op Java gebied\, zoals DevOps\, Container-hosting\, Service Orientation en modern sociaal gedrag. \n16.45 – 17.45: Emond Papegaaij – OAuth 2.0 Demystified\nIn zijn sessie gaat hij dieper in op OAuth 2.0 met behulp van een use-case en de implementatie voor Java. Ook is hij een actief lid van de open source community\, waar hij onder andere committer is op Apache Wicket. \n17.45 – 18.45: Diner\nGeniet van een heerlijke burger van Grill&Smoke waar je zelf de toppings bepaald! \n18.45 – 19.45: Roy Braam – On-prem platform naar de public cloud migreren met Java – SpringBoot en PCF\nDe migratie van Rabobank van het on-prem\, monolithische “online banking platform” naar een microservice architectuur in de public cloud vereist heroverwegingen en herbouw. Als Solution Architect werkt Roy met de teams die verantwoordelijk zijn voor de backend van zowel het nieuwe als het oude online platform. Het nieuwe platform is compleet herbouwd met Java\, Spring Boot op Pivotal Cloud Foundry in public Azure. \nWil je ook nieuwe inspiratie opdoen?
URL:https://nljug.org/evenement/java-summit-isense/
CATEGORIES:Partner events
ATTACH;FMTTYPE=image/jpeg:https://nljug.org/wp-content/uploads/2019/06/iSense-ICT-Professionals-logo.jpg
END:VEVENT
BEGIN:VEVENT
DTSTART;TZID=Europe/Amsterdam:20190619T170000
DTEND;TZID=Europe/Amsterdam:20190619T220000
DTSTAMP:20260424T083807
CREATED:20190517T105458Z
LAST-MODIFIED:20190517T105602Z
UID:4118-1560963600-1560981600@nljug.org
SUMMARY:Code & Comedy 2019 - Ordina
DESCRIPTION:Ordina presenteert Code & Comedy 2019 op woensdag 19 juni a.s. Het event voor en door developers waar onze passie voor softwareontwikkeling en liefde voor stand-up comedy samenkomen. Een avondvullend festivalprogramma met lekker eten\, humor\, technologie en gave tech talks van onder andere Mark Heckler en Hans Bos. We sluiten af met een comedy wrap-up onder leiding van Comedytrain. Stand-up zoals stand-up bedoeld is. Code en comedy in the mix! Enthousiast? Er is beperkt plaats\, wees er dus snel bij! \nMeer informatie & Aanmelden
URL:https://nljug.org/evenement/code-comedy-2019-ordina/
CATEGORIES:Partner events
ATTACH;FMTTYPE=image/png:https://nljug.org/wp-content/uploads/2013/04/ordina-2.png
END:VEVENT
END:VCALENDAR