BEGIN:VCALENDAR
VERSION:2.0
PRODID:-//NLJUG - Nederlandse Java User Group - ECPv6.15.20//NONSGML v1.0//EN
CALSCALE:GREGORIAN
METHOD:PUBLISH
X-ORIGINAL-URL:https://nljug.org
X-WR-CALDESC:Events for NLJUG - Nederlandse Java User Group
REFRESH-INTERVAL;VALUE=DURATION:PT1H
X-Robots-Tag:noindex
X-PUBLISHED-TTL:PT1H
BEGIN:VTIMEZONE
TZID:Europe/Amsterdam
BEGIN:DAYLIGHT
TZOFFSETFROM:+0100
TZOFFSETTO:+0200
TZNAME:CEST
DTSTART:20180325T010000
END:DAYLIGHT
BEGIN:STANDARD
TZOFFSETFROM:+0200
TZOFFSETTO:+0100
TZNAME:CET
DTSTART:20181028T010000
END:STANDARD
BEGIN:DAYLIGHT
TZOFFSETFROM:+0100
TZOFFSETTO:+0200
TZNAME:CEST
DTSTART:20190331T010000
END:DAYLIGHT
BEGIN:STANDARD
TZOFFSETFROM:+0200
TZOFFSETTO:+0100
TZNAME:CET
DTSTART:20191027T010000
END:STANDARD
BEGIN:DAYLIGHT
TZOFFSETFROM:+0100
TZOFFSETTO:+0200
TZNAME:CEST
DTSTART:20200329T010000
END:DAYLIGHT
BEGIN:STANDARD
TZOFFSETFROM:+0200
TZOFFSETTO:+0100
TZNAME:CET
DTSTART:20201025T010000
END:STANDARD
END:VTIMEZONE
BEGIN:VEVENT
DTSTART;VALUE=DATE:20190607
DTEND;VALUE=DATE:20190608
DTSTAMP:20260424T070514
CREATED:20190522T132954Z
LAST-MODIFIED:20190522T132954Z
UID:4150-1559865600-1559951999@nljug.org
SUMMARY:Cloud-native App Dev on Azure Roadshow - Microsoft
DESCRIPTION:Calling all Java developers! Is your company looking to explore the power of open source software? Join Red Hat and Microsoft June 7\, at the Microsoft office in Schiphol\, and learn how to accelerate your application development and delivery with microservices frameworks like Thorntail/MicroProfile\, Vert.x\, Spring Boot\, and Red Hat JBoss Enterprise Application Platform (EAP)\, OpenShift\, and Azure. Find out how your company can bring new business value to existing applications by developing and deploying with modern architectures and frameworks\, and gain competitive advantage. \nMore information & register
URL:https://nljug.org/evenement/cloud-native-app-dev-on-azure-roadshow-microsoft/
CATEGORIES:Partner events
ATTACH;FMTTYPE=image/png:https://nljug.org/wp-content/uploads/2013/04/microsoft-2.png
END:VEVENT
END:VCALENDAR