BEGIN:VCALENDAR
VERSION:2.0
PRODID:-//NLJUG - Nederlandse Java User Group - ECPv6.15.20//NONSGML v1.0//EN
CALSCALE:GREGORIAN
METHOD:PUBLISH
X-ORIGINAL-URL:https://nljug.org
X-WR-CALDESC:Events for NLJUG - Nederlandse Java User Group
REFRESH-INTERVAL;VALUE=DURATION:PT1H
X-Robots-Tag:noindex
X-PUBLISHED-TTL:PT1H
BEGIN:VTIMEZONE
TZID:Europe/Amsterdam
BEGIN:DAYLIGHT
TZOFFSETFROM:+0100
TZOFFSETTO:+0200
TZNAME:CEST
DTSTART:20180325T010000
END:DAYLIGHT
BEGIN:STANDARD
TZOFFSETFROM:+0200
TZOFFSETTO:+0100
TZNAME:CET
DTSTART:20181028T010000
END:STANDARD
BEGIN:DAYLIGHT
TZOFFSETFROM:+0100
TZOFFSETTO:+0200
TZNAME:CEST
DTSTART:20190331T010000
END:DAYLIGHT
BEGIN:STANDARD
TZOFFSETFROM:+0200
TZOFFSETTO:+0100
TZNAME:CET
DTSTART:20191027T010000
END:STANDARD
BEGIN:DAYLIGHT
TZOFFSETFROM:+0100
TZOFFSETTO:+0200
TZNAME:CEST
DTSTART:20200329T010000
END:DAYLIGHT
BEGIN:STANDARD
TZOFFSETFROM:+0200
TZOFFSETTO:+0100
TZNAME:CET
DTSTART:20201025T010000
END:STANDARD
END:VTIMEZONE
BEGIN:VEVENT
DTSTART;TZID=Europe/Amsterdam:20190413T083000
DTEND;TZID=Europe/Amsterdam:20190413T160000
DTSTAMP:20260424T113719
CREATED:20190315T083033Z
LAST-MODIFIED:20190315T101531Z
UID:4010-1555144200-1555171200@nljug.org
SUMMARY:Devoxx4kids - Ordina
DESCRIPTION:Devoxx4kids: programmeerfeest voor kids.\nBen je tussen de 9 en 14 jaar en wil je weleens een eigen game maken of een robot programmeren? \nJe kan je aanmelden door een mail te sturen naar : devoxx4kids@ordina.nl Vermeld daarin het volgende: \n\nJouw (voor- en achter) naam\nJe leeftijd\nDe naam en het mobiele nummer van een van je ouders/verzorgers\nEn graag willen we weten of je al eerder hebt meegedaan aan Devoxx4kids.\nEn mocht je dieetwensen hebben\, laat het ons even weten.\n\nKids in de leeftijd van 9 tot 14 jaar kunnen spelenderwijs leren hoe leuk het is om te programmeren! \nInspireren met programmeren\nOp deze dag willen we laten zien dat het mogelijk is om programmeren aan kinderen te leren en dat op een leuke\, interactieve manier. \nDe workshops\nJullie doen mee aan een drietal workshops: \n\nClash of robots : In deze eerste workshop bouw je je eigen auto en gaat deze vervolgens met software besturen. 10 Auto’s worden in een arena geplaatst en jouw auto moet als langste blijven rijden om de winnaar van dit spel te worden!\nBouw je eigen app : Je gaat je eigen app bouwen voor jouw eerste mobiele telefoon! Je gaat jouw eerste spel (snake) maken en dit ga je op je telefoon kunnen spelen.\nCodecombat : Codecombat is een gaaf spel wat zich afspeelt in de kerkers van Kithgard. Je kunt hier alleen uitbreken door te leren programmeren. Je kunt kiezen uit diverse programmeertalen.\n\nHet programma\nDe dag start van 9.30 uur tot 10.00 uur met registratie. We sluiten rond 16.00 uur af met een demo voor de ouders: die kunnen trots bekijken wat er in de workshops is ontwikkeld door de kinderen.\nDeelname is gratis en we zorgen voor een lekkere lunch. Voor de ouders is er in Eindhoven en omgeving genoeg te doen. Schrijf je snel in door een mail te sturen naar devoxx4kids@ordina.nl ! \nAls je je inschrijft ga je er automatisch mee akkoord dat Ordina foto’s en video’s van de dag gebruikt voor promotionele doeleinden.
URL:https://nljug.org/evenement/devoxx4kids-ordina/
CATEGORIES:Partner events
ATTACH;FMTTYPE=image/png:https://nljug.org/wp-content/uploads/2013/04/ordina-2.png
END:VEVENT
BEGIN:VEVENT
DTSTART;TZID=Europe/Amsterdam:20190413T110000
DTEND;TZID=Europe/Amsterdam:20190413T163000
DTSTAMP:20260424T113719
CREATED:20190318T142550Z
LAST-MODIFIED:20190320T084322Z
UID:4015-1555153200-1555173000@nljug.org
SUMMARY:Security4Teens - First8
DESCRIPTION:Kennismaken met ethisch hacken\, bewustwording van veilig social media gebruik\, privacy en security.\nOm de digitale weerbaarheid bij tieners te versterken\, organiseert First8\, in samenwerking met de Radboud Universiteit op zaterdag 13 april in Nijmegen het evenement Security4Teens\, met als thema ‘The Hackademy’.Tieners gaan op deze dag aan de slag met lockpicking\, hacking\, encryptie\, social engineering en phishing mailsOm zo niet alleen de risico’s maar vooral ook de kansen en mogelijkheden van digitalisering te zelf te ervaren. \nProgramma\, aanvullende informatie en inschrijven: security4teens.nl \nDatum: zaterdag 13 april\nTijd: 11.00uur – 15.30uur\nLocatie: Radboud Universiteit\, Toernooiveld 212\, Nijmegen\nDoelgroep: Tieners van 12 t/m 16 jaar \nOver First8\nRuim 30 gedreven software programmeurs die alles weten over Java en Open Source technologie. Dat is First8: dé Open Source partij in Nederland. We helpen organisaties graag bij grote maatwerk projecten. In het bijzonder als daar complexiteit\, integratie en security bij om de hoek komen kijken. \nSecurity en privacy vinden wij belangrijk en we willen graag onze kennis delen. Dat zijn al twee redenen waarom wij Security4Teens organiseren. \nContact:\nLinda Elbersen\nMarketing & Communicatie First8\nEmail: l.elbersen@first8.nl\nTelefoon: 06-51784368 \nAanmelden
URL:https://nljug.org/evenement/security4teens-first8/
CATEGORIES:Partner events
ATTACH;FMTTYPE=image/png:https://nljug.org/wp-content/uploads/2018/10/first8.png
END:VEVENT
END:VCALENDAR