BEGIN:VCALENDAR
VERSION:2.0
PRODID:-//NLJUG - Nederlandse Java User Group - ECPv6.15.20//NONSGML v1.0//EN
CALSCALE:GREGORIAN
METHOD:PUBLISH
X-ORIGINAL-URL:https://nljug.org
X-WR-CALDESC:Events for NLJUG - Nederlandse Java User Group
REFRESH-INTERVAL;VALUE=DURATION:PT1H
X-Robots-Tag:noindex
X-PUBLISHED-TTL:PT1H
BEGIN:VTIMEZONE
TZID:Europe/Amsterdam
BEGIN:DAYLIGHT
TZOFFSETFROM:+0100
TZOFFSETTO:+0200
TZNAME:CEST
DTSTART:20180325T010000
END:DAYLIGHT
BEGIN:STANDARD
TZOFFSETFROM:+0200
TZOFFSETTO:+0100
TZNAME:CET
DTSTART:20181028T010000
END:STANDARD
BEGIN:DAYLIGHT
TZOFFSETFROM:+0100
TZOFFSETTO:+0200
TZNAME:CEST
DTSTART:20190331T010000
END:DAYLIGHT
BEGIN:STANDARD
TZOFFSETFROM:+0200
TZOFFSETTO:+0100
TZNAME:CET
DTSTART:20191027T010000
END:STANDARD
BEGIN:DAYLIGHT
TZOFFSETFROM:+0100
TZOFFSETTO:+0200
TZNAME:CEST
DTSTART:20200329T010000
END:DAYLIGHT
BEGIN:STANDARD
TZOFFSETFROM:+0200
TZOFFSETTO:+0100
TZNAME:CET
DTSTART:20201025T010000
END:STANDARD
END:VTIMEZONE
BEGIN:VEVENT
DTSTART;TZID=Europe/Amsterdam:20190207T080000
DTEND;TZID=Europe/Amsterdam:20190208T180000
DTSTAMP:20260424T142332
CREATED:20181218T100115Z
LAST-MODIFIED:20190110T130205Z
UID:3851-1549526400-1549648800@nljug.org
SUMMARY:Coding with Uncle Bob -  Rabobank
DESCRIPTION:Always wanted to meet Uncle Bob in person?\nOn 7 || 8 February you can – for FREE! \nWhen: February 7 || 8\, 2019\nWhere: Croeselaan 18\, 3521 CB Utrecht \nString growing = “Coding”;\nString result = String.format(\n“%s a better world together.”\,\ngrowing\n);\nSystem.out.print(result); \nStarring: Robert C. Martin aka “Uncle Bob”\nand many more. \n“Coding a better world together” \nRegister
URL:https://nljug.org/evenement/coding-with-uncle-bob-rabobank/
CATEGORIES:Partner events
ATTACH;FMTTYPE=image/png:https://nljug.org/wp-content/uploads/2017/12/rabobank-2.png
END:VEVENT
END:VCALENDAR