BEGIN:VCALENDAR
VERSION:2.0
PRODID:-//NLJUG - Nederlandse Java User Group - ECPv6.15.20//NONSGML v1.0//EN
CALSCALE:GREGORIAN
METHOD:PUBLISH
X-WR-CALNAME:NLJUG - Nederlandse Java User Group
X-ORIGINAL-URL:https://nljug.org
X-WR-CALDESC:Events for NLJUG - Nederlandse Java User Group
REFRESH-INTERVAL;VALUE=DURATION:PT1H
X-Robots-Tag:noindex
X-PUBLISHED-TTL:PT1H
BEGIN:VTIMEZONE
TZID:Europe/Amsterdam
BEGIN:DAYLIGHT
TZOFFSETFROM:+0100
TZOFFSETTO:+0200
TZNAME:CEST
DTSTART:20180325T010000
END:DAYLIGHT
BEGIN:STANDARD
TZOFFSETFROM:+0200
TZOFFSETTO:+0100
TZNAME:CET
DTSTART:20181028T010000
END:STANDARD
BEGIN:DAYLIGHT
TZOFFSETFROM:+0100
TZOFFSETTO:+0200
TZNAME:CEST
DTSTART:20190331T010000
END:DAYLIGHT
BEGIN:STANDARD
TZOFFSETFROM:+0200
TZOFFSETTO:+0100
TZNAME:CET
DTSTART:20191027T010000
END:STANDARD
BEGIN:DAYLIGHT
TZOFFSETFROM:+0100
TZOFFSETTO:+0200
TZNAME:CEST
DTSTART:20200329T010000
END:DAYLIGHT
BEGIN:STANDARD
TZOFFSETFROM:+0200
TZOFFSETTO:+0100
TZNAME:CET
DTSTART:20201025T010000
END:STANDARD
END:VTIMEZONE
BEGIN:VEVENT
DTSTART;TZID=Europe/Amsterdam:20190129T180000
DTEND;TZID=Europe/Amsterdam:20190129T210000
DTSTAMP:20260424T142107
CREATED:20190114T123456Z
LAST-MODIFIED:20190114T123533Z
UID:3905-1548784800-1548795600@nljug.org
SUMMARY:Workshop hands-on met Micronaut - JDriven
DESCRIPTION:Dinsdag 29 januari 18.00 uur \nMicronaut is een framework voor het ontwikkelen van microservices en serverless functies met behulp van Kotlin\, Groovy of Java\, een focus op het gebruik van zo min mogelijk resources en een extreem snelle opstart snelheid. Handig voor services waar je snel veel van wil kunnen opspinnen. \nVoor wie?\nBen je benieuwd naar de kracht van Micronaut of wil je Micronaut toevoegen aan je huidige landschap? Dan is deze workshop een schot in de roos! \nWat gaan we doen?\nTijdens deze workshop ga je hands-on aan de slag met Micronaut en leer je hoe je microservices kunt maken. Tevens neemt Hubert je mee door alle features van Micronaut en hoe je deze kunt toepassen. Aangezien Micronaut standaard ondersteuning biedt aan cloud native features zoals service discovery\, distributed tracing en load balancing zullen we deze functies tijdens de workshop ook integreren in onze microservice. \nNa deze workshop ben je in staat om reactive microservices met Micronaut te ontwikkelen die weinig geheugen gebruiken en ook nog eens heel snel schalen. \nMeer informatie & Aanmelden
URL:https://nljug.org/evenement/workshop-hands-on-met-micronaut-jdriven/
CATEGORIES:Partner events
ATTACH;FMTTYPE=image/png:https://nljug.org/wp-content/uploads/2019/01/jdriven-2.png
END:VEVENT
END:VCALENDAR