BEGIN:VCALENDAR
VERSION:2.0
PRODID:-//NLJUG - Nederlandse Java User Group - ECPv6.15.20//NONSGML v1.0//EN
CALSCALE:GREGORIAN
METHOD:PUBLISH
X-WR-CALNAME:NLJUG - Nederlandse Java User Group
X-ORIGINAL-URL:https://nljug.org
X-WR-CALDESC:Events for NLJUG - Nederlandse Java User Group
REFRESH-INTERVAL;VALUE=DURATION:PT1H
X-Robots-Tag:noindex
X-PUBLISHED-TTL:PT1H
BEGIN:VTIMEZONE
TZID:Europe/Amsterdam
BEGIN:DAYLIGHT
TZOFFSETFROM:+0100
TZOFFSETTO:+0200
TZNAME:CEST
DTSTART:20180325T010000
END:DAYLIGHT
BEGIN:STANDARD
TZOFFSETFROM:+0200
TZOFFSETTO:+0100
TZNAME:CET
DTSTART:20181028T010000
END:STANDARD
BEGIN:DAYLIGHT
TZOFFSETFROM:+0100
TZOFFSETTO:+0200
TZNAME:CEST
DTSTART:20190331T010000
END:DAYLIGHT
BEGIN:STANDARD
TZOFFSETFROM:+0200
TZOFFSETTO:+0100
TZNAME:CET
DTSTART:20191027T010000
END:STANDARD
BEGIN:DAYLIGHT
TZOFFSETFROM:+0100
TZOFFSETTO:+0200
TZNAME:CEST
DTSTART:20200329T010000
END:DAYLIGHT
BEGIN:STANDARD
TZOFFSETFROM:+0200
TZOFFSETTO:+0100
TZNAME:CET
DTSTART:20201025T010000
END:STANDARD
END:VTIMEZONE
BEGIN:VEVENT
DTSTART;TZID=Europe/Amsterdam:20190117T180000
DTEND;TZID=Europe/Amsterdam:20190117T200000
DTSTAMP:20260424T172000
CREATED:20181203T155328Z
LAST-MODIFIED:20190110T130006Z
UID:3815-1547748000-1547755200@nljug.org
SUMMARY:Kennissessie: Spring Boot 2 Recipes -  Conspect Consulting & ICT
DESCRIPTION:Hierbij willen wij jullie graag uitnodigen bij ons voor een kennisdeling met Marten Deinum over zijn nieuwe boek Spring Boot 2 Recipes. \nSpring Boot 2 Recipes behandelt Spring Boot 2.1\, Spring Framework 5.1 en bevat kant en klare code voorbeelden (Recipes) voor veel voorkomende integratie. Wat is nieuw in Spring Boot 2.1 t.o.v. Spring Boot 2.0? Welke impact had dit op het boek? Dit zijn enkele vragen waar jij antwoord op krijg in de kennissessie: \n\n\n\n\n\nWat zijn Recipes?\nWelke projecten behandelt het boek?\nWat is er nieuw in Spring Boot 2.1?\n\n\n\n\n\nDaarnaast is er natuurlijk genoeg tijd om vragen te stellen aan Marten en zelf een kijkje te nemen in zijn nieuwe boek: Spring Boot 2 Recipes. \nProgramma\n\n\n\nDatum:\ndonderdag 17 januari 2019\n\n\nLocatie:\nConspect ICT\, Transistorstraat 71J\, 1322 CK Almere\n\n\nTijd:\n18:00-19:00 Inloop met een hapje en drankje\n\n\n\n19:00-20:00 Plenaire presentatie\n\n\n\n20:00-21:00 Na praten onder het genot van een drankje\n\n\n\nAanmelden kan door een email te sturen naar javaevents@conspect.nl\, met daarin je volledige naam\, e-mailadres en telefoonnummer. Het aantal plaatsen is beperkt tot 50! Wie het eerst komt die het eerst maalt! Vol=Vol. De persoonsgegevens waarmee jij je aanmeldt\, worden uitsluitend gebruikt voor communicatie in het kader van dit event. Hoe wij verder omgaan met jouw persoonsgegevens\, kun je hier teruglezen.  \nDeze presentatie wordt jullie geheel kosteloos aangeboden door Conspect ICT\, dus gratis entree! Onze passie is ICT en dit willen we graag met jullie delen. Leuk maakt alles beter!
URL:https://nljug.org/evenement/kennissessie-spring-boot-2-recipes-conspect-consulting-ict/
CATEGORIES:Partner events
ATTACH;FMTTYPE=image/jpeg:https://nljug.org/wp-content/uploads/2013/04/CON-Logo-zwgeel-met.jpg
END:VEVENT
END:VCALENDAR