BEGIN:VCALENDAR
VERSION:2.0
PRODID:-//NLJUG - Nederlandse Java User Group - ECPv6.15.20//NONSGML v1.0//EN
CALSCALE:GREGORIAN
METHOD:PUBLISH
X-WR-CALNAME:NLJUG - Nederlandse Java User Group
X-ORIGINAL-URL:https://nljug.org
X-WR-CALDESC:Events for NLJUG - Nederlandse Java User Group
REFRESH-INTERVAL;VALUE=DURATION:PT1H
X-Robots-Tag:noindex
X-PUBLISHED-TTL:PT1H
BEGIN:VTIMEZONE
TZID:Europe/Amsterdam
BEGIN:DAYLIGHT
TZOFFSETFROM:+0100
TZOFFSETTO:+0200
TZNAME:CEST
DTSTART:20170326T010000
END:DAYLIGHT
BEGIN:STANDARD
TZOFFSETFROM:+0200
TZOFFSETTO:+0100
TZNAME:CET
DTSTART:20171029T010000
END:STANDARD
BEGIN:DAYLIGHT
TZOFFSETFROM:+0100
TZOFFSETTO:+0200
TZNAME:CEST
DTSTART:20180325T010000
END:DAYLIGHT
BEGIN:STANDARD
TZOFFSETFROM:+0200
TZOFFSETTO:+0100
TZNAME:CET
DTSTART:20181028T010000
END:STANDARD
BEGIN:DAYLIGHT
TZOFFSETFROM:+0100
TZOFFSETTO:+0200
TZNAME:CEST
DTSTART:20190331T010000
END:DAYLIGHT
BEGIN:STANDARD
TZOFFSETFROM:+0200
TZOFFSETTO:+0100
TZNAME:CET
DTSTART:20191027T010000
END:STANDARD
END:VTIMEZONE
BEGIN:VEVENT
DTSTART;TZID=Europe/Amsterdam:20181122T173000
DTEND;TZID=Europe/Amsterdam:20181122T210000
DTSTAMP:20260424T183948
CREATED:20181106T085940Z
LAST-MODIFIED:20181106T102408Z
UID:3729-1542907800-1542920400@nljug.org
SUMMARY:Meetup: De impact Java 11 en de migratie van Java 8 naar Java 11 - CJIB ICT
DESCRIPTION:Meetup CJIB ICT\nDe impact Java 11 bij het CJIB en de migratie van Java 8 naar Java 11\n\n\n\n\n\n\n\n\nDe impact Java 11 bij het CJIB en de migratie van Java 8 naar Java 11\nDatum: 22 november 2018\nTijd: 17.30- 21:00uur\nLocatie: Auditorium CJIB\, Tesselschadestraat 55 te Leeuwarden \n  \nSinds de release van Java 9 hebben nog maar weinig organisaties de overstap gemaakt naar de meest \nrecente versie van Java. Met de release van Java 11 zou daar verandering in kunnen komen omdat \nOracle hier het label ‘Long Term Support’ aan heeft gegeven. Maar is deze aanname wel terecht? \n  \nRobert Scholte vertelt over:\nde belangrijkste wijzigingen van Java 11 \nIan Duijff vertelt over: De impact van de gewijzigde Java release train\n(iedere 6 maanden een nieuwe release) en hoe het CJIB hier mee om denkt te gaan. \n\n\n\n\n\n\n  \nRobert Scholte is voorzitter van Apache Maven\, was lid van de expert group voor JSR-376. Scholte is verantwoordelijk voor een groot deel van de implementaties in Maven plugins om het modulaire systeem te ondersteunen. Hij is een frequente spreker op conferenties als JavaOne\, Devoxx\, JavaZone en JFall. \n\n\n\n\n  \n  \n\n\n\n\n\n  \nIan Duijff is architect bij het CJIB. Hij houdt ervan om business toepassingen met nieuwe technieken te combineren en doet dat de laatste jaren vooral in omgevingen met mobile en Java applicaties. Bij het CJIB houdt hij zich o.a. bezig met het API landschap en security. Vanuit het security oogpunt ziet hij graag dat applicaties regelmatig worden bijgewerkt. \n\n\n\n\n  \nAanmelden
URL:https://nljug.org/evenement/meetup-de-impact-java-11-en-de-migratie-van-java-8-naar-java-11-cjib-ict/
CATEGORIES:Partner events
ATTACH;FMTTYPE=image/png:https://nljug.org/wp-content/uploads/2018/11/36579.w800.r800-450.6d55fbe.png
END:VEVENT
END:VCALENDAR