BEGIN:VCALENDAR
VERSION:2.0
PRODID:-//NLJUG - Nederlandse Java User Group - ECPv6.15.20//NONSGML v1.0//EN
CALSCALE:GREGORIAN
METHOD:PUBLISH
X-ORIGINAL-URL:https://nljug.org
X-WR-CALDESC:Events for NLJUG - Nederlandse Java User Group
REFRESH-INTERVAL;VALUE=DURATION:PT1H
X-Robots-Tag:noindex
X-PUBLISHED-TTL:PT1H
BEGIN:VTIMEZONE
TZID:Europe/Amsterdam
BEGIN:DAYLIGHT
TZOFFSETFROM:+0100
TZOFFSETTO:+0200
TZNAME:CEST
DTSTART:20170326T010000
END:DAYLIGHT
BEGIN:STANDARD
TZOFFSETFROM:+0200
TZOFFSETTO:+0100
TZNAME:CET
DTSTART:20171029T010000
END:STANDARD
BEGIN:DAYLIGHT
TZOFFSETFROM:+0100
TZOFFSETTO:+0200
TZNAME:CEST
DTSTART:20180325T010000
END:DAYLIGHT
BEGIN:STANDARD
TZOFFSETFROM:+0200
TZOFFSETTO:+0100
TZNAME:CET
DTSTART:20181028T010000
END:STANDARD
BEGIN:DAYLIGHT
TZOFFSETFROM:+0100
TZOFFSETTO:+0200
TZNAME:CEST
DTSTART:20190331T010000
END:DAYLIGHT
BEGIN:STANDARD
TZOFFSETFROM:+0200
TZOFFSETTO:+0100
TZNAME:CET
DTSTART:20191027T010000
END:STANDARD
END:VTIMEZONE
BEGIN:VEVENT
DTSTART;TZID=Europe/Amsterdam:20181018T160000
DTEND;TZID=Europe/Amsterdam:20181018T170000
DTSTAMP:20260424T201246
CREATED:20181010T091233Z
LAST-MODIFIED:20181010T091233Z
UID:3670-1539878400-1539882000@nljug.org
SUMMARY:Axon 4.0 : Product Launch Webinar - AxonIQ
DESCRIPTION:Axon 4.0 is a platform consisting of the popular\, Apache 2 licensed\, Axon Framework\, and the new\, built-for-purpose Axon Server.\nWhile they can be used independently\, together they show their true power. Axon 4.0 includes both a programming model as well as specialized infrastructure to provide enterprise ready operational support for the programming model – especially for scaling and distributing mission critical business applications. The programming model is provided by the popular Axon Framework while Axon Server is the infrastructure part of Axon 4.0. Both the Axon Framework and Axon Server are open source.\nAxon 4.0 is ready to meet even the most demanding enterprise requirements like the most efficient scaling of event storage\, security\, clustering\, load-balancing\, service discovery\, globally distributed data centers\, third-party integration\, metrics and monitoring. \nListen to this webinar and learn about Axon 4.0 and it’s advantages \nRegister now
URL:https://nljug.org/evenement/axon-4-0-product-launch-webinar-axoniq/
CATEGORIES:Partner events
ATTACH;FMTTYPE=image/jpeg:https://nljug.org/wp-content/uploads/2018/05/AxonIQ-406-x-146.jpg
END:VEVENT
END:VCALENDAR