BEGIN:VCALENDAR
VERSION:2.0
PRODID:-//NLJUG - Nederlandse Java User Group - ECPv6.15.20//NONSGML v1.0//EN
CALSCALE:GREGORIAN
METHOD:PUBLISH
X-WR-CALNAME:NLJUG - Nederlandse Java User Group
X-ORIGINAL-URL:https://nljug.org
X-WR-CALDESC:Events for NLJUG - Nederlandse Java User Group
REFRESH-INTERVAL;VALUE=DURATION:PT1H
X-Robots-Tag:noindex
X-PUBLISHED-TTL:PT1H
BEGIN:VTIMEZONE
TZID:Europe/Amsterdam
BEGIN:DAYLIGHT
TZOFFSETFROM:+0100
TZOFFSETTO:+0200
TZNAME:CEST
DTSTART:20170326T010000
END:DAYLIGHT
BEGIN:STANDARD
TZOFFSETFROM:+0200
TZOFFSETTO:+0100
TZNAME:CET
DTSTART:20171029T010000
END:STANDARD
BEGIN:DAYLIGHT
TZOFFSETFROM:+0100
TZOFFSETTO:+0200
TZNAME:CEST
DTSTART:20180325T010000
END:DAYLIGHT
BEGIN:STANDARD
TZOFFSETFROM:+0200
TZOFFSETTO:+0100
TZNAME:CET
DTSTART:20181028T010000
END:STANDARD
BEGIN:DAYLIGHT
TZOFFSETFROM:+0100
TZOFFSETTO:+0200
TZNAME:CEST
DTSTART:20190331T010000
END:DAYLIGHT
BEGIN:STANDARD
TZOFFSETFROM:+0200
TZOFFSETTO:+0100
TZNAME:CET
DTSTART:20191027T010000
END:STANDARD
END:VTIMEZONE
BEGIN:VEVENT
DTSTART;VALUE=DATE:20181003
DTEND;VALUE=DATE:20181004
DTSTAMP:20260424T201118
CREATED:20180911T131646Z
LAST-MODIFIED:20180911T131646Z
UID:3605-1538524800-1538611199@nljug.org
SUMMARY:Backend summit 2018 - ING
DESCRIPTION:Invitation\nHi Engineers\, \nIt’s already been more than a year since our last internal backend summit took place but the fun will finally be back! \nThis year’s summit will be held on Wednesday October\, 3rd at the AMP building in Amsterdam and this time the summit is for both ING and non-ING engineers. \nAs with last year\, we are organizing a backend summit that goes beyond the day-to-day hassle of developing software and is meant to inspire\, amaze and showcase some of the solutions and progress we have made at ING. \nWe have selected some of the greatest speakers many of which are working at ING. Look at the program for more information. You can find the most recent schedule with all the talks under the “Program” tab. \nPlease register by filling out the form in the “Registration” tab to attend the summit. There is limited space available. So\, it will be on the basis of first come\, first served. You will receive a confirmation email if you are selected to attend the backend summit. If you are selected\, but are not able to attend\, please let us know so that someone else can take your place. \nJust as at every good conference we’ll also have t-shirts. Make sure to sign up for our summit prior to September 10th to reserve a t-shirt. (This is not to make you sign up early but we must get the t-shirts printed in time. If you sign up later\, there will simply be no guaranteed t-shirt for you.) \nMorning sessions contain ING-sensitive information\, so are targeted for ING internal auditory only. Our non-ING visitors are welcomed starting from lunch at 12:00. \nWe are very excited about our second backend summit and are eager to bring ING yet another step forward. So\, join us and have a great summit! \nBest regards\, \nYour backend guild organization \nAanmelden
URL:https://nljug.org/evenement/backend-summit-2018-ing/
CATEGORIES:Partner events
ATTACH;FMTTYPE=image/png:https://nljug.org/wp-content/uploads/2013/09/ing-2.png
END:VEVENT
END:VCALENDAR