BEGIN:VCALENDAR
VERSION:2.0
PRODID:-//NLJUG - Nederlandse Java User Group - ECPv6.15.20//NONSGML v1.0//EN
CALSCALE:GREGORIAN
METHOD:PUBLISH
X-ORIGINAL-URL:https://nljug.org
X-WR-CALDESC:Events for NLJUG - Nederlandse Java User Group
REFRESH-INTERVAL;VALUE=DURATION:PT1H
X-Robots-Tag:noindex
X-PUBLISHED-TTL:PT1H
BEGIN:VTIMEZONE
TZID:Europe/Amsterdam
BEGIN:DAYLIGHT
TZOFFSETFROM:+0100
TZOFFSETTO:+0200
TZNAME:CEST
DTSTART:20170326T010000
END:DAYLIGHT
BEGIN:STANDARD
TZOFFSETFROM:+0200
TZOFFSETTO:+0100
TZNAME:CET
DTSTART:20171029T010000
END:STANDARD
BEGIN:DAYLIGHT
TZOFFSETFROM:+0100
TZOFFSETTO:+0200
TZNAME:CEST
DTSTART:20180325T010000
END:DAYLIGHT
BEGIN:STANDARD
TZOFFSETFROM:+0200
TZOFFSETTO:+0100
TZNAME:CET
DTSTART:20181028T010000
END:STANDARD
BEGIN:DAYLIGHT
TZOFFSETFROM:+0100
TZOFFSETTO:+0200
TZNAME:CEST
DTSTART:20190331T010000
END:DAYLIGHT
BEGIN:STANDARD
TZOFFSETFROM:+0200
TZOFFSETTO:+0100
TZNAME:CET
DTSTART:20191027T010000
END:STANDARD
END:VTIMEZONE
BEGIN:VEVENT
DTSTART;TZID=Europe/Amsterdam:20181001T170000
DTEND;TZID=Europe/Amsterdam:20181001T210000
DTSTAMP:20260424T200332
CREATED:20180911T145906Z
LAST-MODIFIED:20180911T145907Z
UID:3609-1538413200-1538427600@nljug.org
SUMMARY:Music & Architecture - De Belastingdienst
DESCRIPTION:Beste Java specialist\, \nGraag nodigen we je uit voor een meetup met twee onderwerpen: Music & Architecture. \n\nMusic\nWat is er toffer dan muziek maken en programmeren tegelijk? Sam Aaron kan dat als geen ander! In zijn zelf-ontwikkelde programmeeromgeving. We hebben het voorrecht om hem te mogen ontvangen. Laat je meevoeren in zijn enthousiasme!\n\nArchitecture\nWat moeten Java-ontwikkelaars met een abstract begrip als architectuur? Dat hangt uiteraard af van de definitie. In deze sessie hopen we inzicht te geven dat architectuur ons dagelijks werk is. En dat er geen one-size-fits-all architectuur bestaat\, maar dat de context bepalend is voor wat de beste keuzes zijn. In een prikkelend gesprek nemen drie medewerkers je mee in de architectuurkeuzes de Belastingdienst maakt om haar Java-applicaties sneller en robuuster te kunnen ontwikkelen en beheren.\n\n\n\n\n\nwanneer:\n\n\nmaandagavond 1 oktober 2018\n\n\n\n\nduur:\n\n\n17:00 – 18:30 Meet & Eat\n\n\n\n\n\n18:30 – 21:00 Programma\n\n\n\n\nlocatie:\n\n\nJohn F. Kennedylaan 8\, 7314 PS Apeldoorn\n\n\n\n\n\nParkeren kan\, na aanmelding bij de slagboom\, in de kelder bij de hoofdingang.\n\n\n\n\neten\n\n\nWij zorgen voor een Javaans buffet met vlees\, vis en vegetarische gerechten.\n\n\n\n\n\nHeb je dieetwensen? Geef het dan aan ons door.\n\n\n\n\ninschrijven:\n\n\nJe kan je inschrijven via Eventbrite.\n\n\n\n\n\nNa inschrijving ontvang je een bevestiging. Er is maar een beperkt aantal plekken beschikbaar\, dus schrijf je snel in.\n\n\n\n\nmeenemen:\n\n\nNeem een identiteitsbewijs voor legitimatie.\n\n\n\n\ncontact:\n\n\nAnton de Ruiter (a_de_ruiter@belastingdienst.nl; 06-11777862)\n\n\n\n\nAanmelden
URL:https://nljug.org/evenement/music-architecture-de-belastingdienst/
CATEGORIES:Partner events
ATTACH;FMTTYPE=image/png:https://nljug.org/wp-content/uploads/2015/03/rijksoverheid-2.png
END:VEVENT
END:VCALENDAR