BEGIN:VCALENDAR
VERSION:2.0
PRODID:-//NLJUG - Nederlandse Java User Group - ECPv6.15.20//NONSGML v1.0//EN
CALSCALE:GREGORIAN
METHOD:PUBLISH
X-ORIGINAL-URL:https://nljug.org
X-WR-CALDESC:Events for NLJUG - Nederlandse Java User Group
REFRESH-INTERVAL;VALUE=DURATION:PT1H
X-Robots-Tag:noindex
X-PUBLISHED-TTL:PT1H
BEGIN:VTIMEZONE
TZID:Europe/Amsterdam
BEGIN:DAYLIGHT
TZOFFSETFROM:+0100
TZOFFSETTO:+0200
TZNAME:CEST
DTSTART:20170326T010000
END:DAYLIGHT
BEGIN:STANDARD
TZOFFSETFROM:+0200
TZOFFSETTO:+0100
TZNAME:CET
DTSTART:20171029T010000
END:STANDARD
BEGIN:DAYLIGHT
TZOFFSETFROM:+0100
TZOFFSETTO:+0200
TZNAME:CEST
DTSTART:20180325T010000
END:DAYLIGHT
BEGIN:STANDARD
TZOFFSETFROM:+0200
TZOFFSETTO:+0100
TZNAME:CET
DTSTART:20181028T010000
END:STANDARD
BEGIN:DAYLIGHT
TZOFFSETFROM:+0100
TZOFFSETTO:+0200
TZNAME:CEST
DTSTART:20190331T010000
END:DAYLIGHT
BEGIN:STANDARD
TZOFFSETFROM:+0200
TZOFFSETTO:+0100
TZNAME:CET
DTSTART:20191027T010000
END:STANDARD
END:VTIMEZONE
BEGIN:VEVENT
DTSTART;TZID=Europe/Amsterdam:20180921T090000
DTEND;TZID=Europe/Amsterdam:20180921T173000
DTSTAMP:20260424T212956
CREATED:20180514T124213Z
LAST-MODIFIED:20180514T124213Z
UID:3152-1537520400-1537551000@nljug.org
SUMMARY:Event-Driven Microservices Conference - AxonIQ
DESCRIPTION:DESCRIPTION\n\n\n\nConference is full of practical presentations\, highly-rated workshops at very affordable price. This will help you to level up your knowledge about: \nEvent-driven thinking in design\, architecture\, technology and organization \nProgram \n\nLoving Events through Chaos by Russ Miles (ChaosIQ)\nAxon Vison and Roadmap by Allard Buijze (AxonIQ)\nProjects with Axon Framework – best practices\nUnconference where you can exchange information\nPanel discussion with industry experts\nspeakers will be announced soon\n\nWorkshops \n\nFun with Event Storming and advanced Domain-Driven Design by Mathias Verraes and Alberto Brandolini\nFull stack product suite by AxonIQ by Allard Buijze\nWe’re going to do Chaos Engineering with Russ Miles\n\nBlind bird pricing for conference tickets expires at midnight CET on March 15th. \nWe promise an excellent program so make sure you use this hefty discount. \n\nIn meantime you can see our video archives of AxonIQ Conference 2017\, available at: \nhttps://www.youtube.com/channel/UCQb0g7zJCWrzkpxznSUkERw
URL:https://nljug.org/evenement/event-driven-microservices-conference-axoniq/
CATEGORIES:Partner events
ATTACH;FMTTYPE=image/jpeg:https://nljug.org/wp-content/uploads/2018/05/AxonIQ-406-x-146.jpg
END:VEVENT
END:VCALENDAR