BEGIN:VCALENDAR
VERSION:2.0
PRODID:-//NLJUG - Nederlandse Java User Group - ECPv6.15.20//NONSGML v1.0//EN
CALSCALE:GREGORIAN
METHOD:PUBLISH
X-WR-CALNAME:NLJUG - Nederlandse Java User Group
X-ORIGINAL-URL:https://nljug.org
X-WR-CALDESC:Events for NLJUG - Nederlandse Java User Group
REFRESH-INTERVAL;VALUE=DURATION:PT1H
X-Robots-Tag:noindex
X-PUBLISHED-TTL:PT1H
BEGIN:VTIMEZONE
TZID:Europe/Amsterdam
BEGIN:DAYLIGHT
TZOFFSETFROM:+0100
TZOFFSETTO:+0200
TZNAME:CEST
DTSTART:20170326T010000
END:DAYLIGHT
BEGIN:STANDARD
TZOFFSETFROM:+0200
TZOFFSETTO:+0100
TZNAME:CET
DTSTART:20171029T010000
END:STANDARD
BEGIN:DAYLIGHT
TZOFFSETFROM:+0100
TZOFFSETTO:+0200
TZNAME:CEST
DTSTART:20180325T010000
END:DAYLIGHT
BEGIN:STANDARD
TZOFFSETFROM:+0200
TZOFFSETTO:+0100
TZNAME:CET
DTSTART:20181028T010000
END:STANDARD
BEGIN:DAYLIGHT
TZOFFSETFROM:+0100
TZOFFSETTO:+0200
TZNAME:CEST
DTSTART:20190331T010000
END:DAYLIGHT
BEGIN:STANDARD
TZOFFSETFROM:+0200
TZOFFSETTO:+0100
TZNAME:CET
DTSTART:20191027T010000
END:STANDARD
END:VTIMEZONE
BEGIN:VEVENT
DTSTART;TZID=Europe/Amsterdam:20180906T180000
DTEND;TZID=Europe/Amsterdam:20180906T210000
DTSTAMP:20260424T213403
CREATED:20180822T135032Z
LAST-MODIFIED:20180822T135032Z
UID:3514-1536256800-1536267600@nljug.org
SUMMARY:Pragmatic Event-Driven Microservices and Machine Learning with the Axon stack - AxonIQ
DESCRIPTION:The Axon Framework\, developed and supported by AxonIQ\, was originally started at Trifork Amsterdam and it is thus logical that Trifork and AxonIQ are closely related. As a joint team we are organizing a meetup on 6 September at Trifork Amsterdam. An evening full of Events will be presented by Allard Buijze (AxonIQ)\, Attila Houtkooper (Trifork) and Halleh Khoshnevis(Trifork) \nEvents are quickly rising in popularity. They are first-class citizens in many modern architectural styles\, and for good reasons. Events combine very well with microservices\, or system-of-systems architectures. However\, these event-driven systems also bring their challenges. How do you deal with the asynchronous nature of these messages? Should we really turn everything into Events. In his talk\, Allard will touch the challenges of an event-driven architecture. \nAttila and Halleh will take you into the world of Machine Learning and show how can you learn from the Events.\nThe core concept of Events stored in AxonDB enables to forecast the specific Events in the future as well as detect the anomalies in the flow of the Events. You will learn how to turn large data-sets from a domain specific structure containing valuable insights into classification and prediction. \nREGISTER HERE \n6 September 2018 @ 18:00 – 21:00\nTrifork\, Rijnsburgstraat 9\, Amsterdam
URL:https://nljug.org/evenement/pragmatic-event-driven-microservices-and-machine-learning-with-the-axon-stack-axoniq/
CATEGORIES:Partner events
ATTACH;FMTTYPE=image/jpeg:https://nljug.org/wp-content/uploads/2018/05/AxonIQ-406-x-146.jpg
END:VEVENT
END:VCALENDAR