BEGIN:VCALENDAR
VERSION:2.0
PRODID:-//NLJUG - Nederlandse Java User Group - ECPv6.15.20//NONSGML v1.0//EN
CALSCALE:GREGORIAN
METHOD:PUBLISH
X-WR-CALNAME:NLJUG - Nederlandse Java User Group
X-ORIGINAL-URL:https://nljug.org
X-WR-CALDESC:Events for NLJUG - Nederlandse Java User Group
REFRESH-INTERVAL;VALUE=DURATION:PT1H
X-Robots-Tag:noindex
X-PUBLISHED-TTL:PT1H
BEGIN:VTIMEZONE
TZID:Europe/Amsterdam
BEGIN:DAYLIGHT
TZOFFSETFROM:+0100
TZOFFSETTO:+0200
TZNAME:CEST
DTSTART:20170326T010000
END:DAYLIGHT
BEGIN:STANDARD
TZOFFSETFROM:+0200
TZOFFSETTO:+0100
TZNAME:CET
DTSTART:20171029T010000
END:STANDARD
BEGIN:DAYLIGHT
TZOFFSETFROM:+0100
TZOFFSETTO:+0200
TZNAME:CEST
DTSTART:20180325T010000
END:DAYLIGHT
BEGIN:STANDARD
TZOFFSETFROM:+0200
TZOFFSETTO:+0100
TZNAME:CET
DTSTART:20181028T010000
END:STANDARD
BEGIN:DAYLIGHT
TZOFFSETFROM:+0100
TZOFFSETTO:+0200
TZNAME:CEST
DTSTART:20190331T010000
END:DAYLIGHT
BEGIN:STANDARD
TZOFFSETFROM:+0200
TZOFFSETTO:+0100
TZNAME:CET
DTSTART:20191027T010000
END:STANDARD
END:VTIMEZONE
BEGIN:VEVENT
DTSTART;TZID=Europe/Amsterdam:20180724T160000
DTEND;TZID=Europe/Amsterdam:20180724T163000
DTSTAMP:20260425T002832
CREATED:20180719T083644Z
LAST-MODIFIED:20180719T083652Z
UID:3426-1532448000-1532449800@nljug.org
SUMMARY:Webinar: Introducing Subscription Queries
DESCRIPTION:Presented by Frans van Buul \nQueries are\, next to Commands and Events\, a fundamental building block of any CQRS/Event Sourcing based application. As such\, they’re supported in Axon Framework since 3.1 by means of a QueryBus and @QueryHandler methods. But something has been missing so far: these queries were executed in a simple request/response fashion\, whereas in reality many modern applications are showing live\, asynchronously updated data to their users.\nAxon Framework 3.3 has introduced subscription queries to bridge this gap in a truly elegant manner. \nIn this short\, all live-coding webinar\, we’ll take an existing Axon application with a GUI featuring synchronous\, user initiated data refreshes\, and transform that into a live updated system using the new subscription query functionality. \nA must-see for all Axon users wanting to get the most out of Axon’s new features! \n20 minutes for webinar\, 10 minutes for Q&A
URL:https://nljug.org/evenement/webinar-introducing-subscription-queries/
CATEGORIES:Partner events
ATTACH;FMTTYPE=image/png:https://nljug.org/wp-content/uploads/2017/09/axoniq-2.png
END:VEVENT
END:VCALENDAR