BEGIN:VCALENDAR
VERSION:2.0
PRODID:-//NLJUG - Nederlandse Java User Group - ECPv6.15.20//NONSGML v1.0//EN
CALSCALE:GREGORIAN
METHOD:PUBLISH
X-WR-CALNAME:NLJUG - Nederlandse Java User Group
X-ORIGINAL-URL:https://nljug.org
X-WR-CALDESC:Events for NLJUG - Nederlandse Java User Group
REFRESH-INTERVAL;VALUE=DURATION:PT1H
X-Robots-Tag:noindex
X-PUBLISHED-TTL:PT1H
BEGIN:VTIMEZONE
TZID:Europe/Amsterdam
BEGIN:DAYLIGHT
TZOFFSETFROM:+0100
TZOFFSETTO:+0200
TZNAME:CEST
DTSTART:20170326T010000
END:DAYLIGHT
BEGIN:STANDARD
TZOFFSETFROM:+0200
TZOFFSETTO:+0100
TZNAME:CET
DTSTART:20171029T010000
END:STANDARD
BEGIN:DAYLIGHT
TZOFFSETFROM:+0100
TZOFFSETTO:+0200
TZNAME:CEST
DTSTART:20180325T010000
END:DAYLIGHT
BEGIN:STANDARD
TZOFFSETFROM:+0200
TZOFFSETTO:+0100
TZNAME:CET
DTSTART:20181028T010000
END:STANDARD
BEGIN:DAYLIGHT
TZOFFSETFROM:+0100
TZOFFSETTO:+0200
TZNAME:CEST
DTSTART:20190331T010000
END:DAYLIGHT
BEGIN:STANDARD
TZOFFSETFROM:+0200
TZOFFSETTO:+0100
TZNAME:CET
DTSTART:20191027T010000
END:STANDARD
END:VTIMEZONE
BEGIN:VEVENT
DTSTART;TZID=Europe/Amsterdam:20180530T173000
DTEND;TZID=Europe/Amsterdam:20180530T203000
DTSTAMP:20260425T015437
CREATED:20180417T145718Z
LAST-MODIFIED:20180417T145739Z
UID:2762-1527701400-1527712200@nljug.org
SUMMARY:Brain Upgrade: Wat elke engineer zou moeten weten over TCP
DESCRIPTION:Omschrijving\nAls developer werk je waarschijnlijk dagelijks aan software die gebruik maakt van TCP\, en als het goed is zul je het niet echt als een probleem ervaren. Je platform SDK geeft je waarschijnlijk een mooie abstractie waardoor het lezen of schrijven van/naar een TCP verbinding weinig anders is dan naar een lokale file. Of je gebruikt een web container die de smerige details van netwerkverbindingen nog verder voor je verbergt. Met alleen kennis van basisbegrippen als IP-adres en poortnummer kom je een heel eind. \nMaar zoals met de meeste frameworks die goede abstracties maken: als het een keer niet werkt kom je snel in een trial en error modus\, omdat je niet echt begrijpt wat er gebeurt. Een melding als “connection reset by peer” geeft je wel een vaag idee van wat er mis is\, maar wat het nu precies betekent of wat daarvan de oorzaak zou kunnen zijn…. \nAan die frustraties gaan we in deze sessie wat doen\, door je begrip van hoe TCP werkt\, sterk te vergroten. Dat doen we niet door de betekenis van alle bitjes van een TCP frame uit te leggen\, maar door te kijken naar praktijk situaties en uit te leggen wat er in zo’n situatie nu precies gebeurt en welk effect dat kan hebben op jouw programma. Bijvoorbeeld waar die “connection reset by peer” vandaan kan komen; wat er precies gebeurt als je verbinding langere tijd ongebruikt open staat\, wat is het verschil tussen “connection refused” en “connection timed out”\, hoe snel de door jou verstuurde data door de andere kant gelezen wordt\, hoe netwerkverkeer beinvloed kan worden door firewalls en load-balancers\, welk gedrag je kunt zien bij te zwaar belaste servers\, etc. En passent ruimen we een aantal weid verbreide misverstanden over TCP op. Ook kijken we hoe een network analyser kan helpen bij je analyse. De code voorbeelden zijn in Java\, maar zouden voor elke developer te begrijpen moeten zijn. \nProgramma\nVolgt binnenkort. \nDoelgroep\nDevelopers
URL:https://nljug.org/evenement/brain-upgrade-wat-elke-engineer-zou-moeten-weten-over-tcp/
CATEGORIES:Partner events
ATTACH;FMTTYPE=image/png:https://nljug.org/wp-content/uploads/2013/04/luminis-2.png
END:VEVENT
BEGIN:VEVENT
DTSTART;TZID=Europe/Amsterdam:20180530T173000
DTEND;TZID=Europe/Amsterdam:20180530T210000
DTSTAMP:20260425T015437
CREATED:20180419T102255Z
LAST-MODIFIED:20180419T102349Z
UID:2779-1527701400-1527714000@nljug.org
SUMMARY:Codestar.Night presents: Angular PWAs and PaaS with Simona Cotin
DESCRIPTION:Wat we doen\n\nWe are excited to present two new talks by Microsoft Developer Advocate and Angular enthusiast Simona Cotin. Both talks are packed with live coding and she even got in touch with the Edge workgroup to present us with the hottest news on PWAs. \n# PWAs\, are we there yet?!\nProgressive web applications are the new hip and all the cool kids are on board. They are slowly becoming an industry standard for building web applications. With reliability\, speed and immersive user experience in mind\, PWAs help you reach a broader audience. But what are the gotchas? Let’s explore some of the limitations we might encounter compared to native applications. Which traditionally native features are now available for PWAs to use and which are in development? All browsers are on the same page\, supporting features like Service Workers is key but which are differences in API implementation and what bugs should we be aware of? After this session you’ll walk away with a clear idea on which is the current state of PWAs\, its limitations as well as its strengths. \n# Code and Deploy Angular to the Cloud\nGetting started with Angular is now easier than ever… said no one ever. Yet with the right toolset\, we too can create magic. When I code with Angular I can deploy to Azure within minutes. We’ll go through a simple development to production workflow. First\, we code with a little help from the Angular CLI. Then we build for production – Webpack to the rescue. We then push our code to Github and deploy it on Node to Azure. Mission accomplished\, the application is now up in the cloud! \n# About Simona\nSimona is a web developer with experience in building data visualization platforms for network data and more recently in the cloud. Communities power her up and that’s why she is co-organising the Javascript London meetup. Passionate about knowledge sharing\, she has also mentored at workshops for Women Who Code and NgGirls encouraging women to learn more about programming.\nhttps://developer.microsoft.com/en-us/advocates/simona-cotin \n# Program\n30 May 2018\n17:30 Doors open and registration\n18:00 Food\n18:30 Talk 1\n19:30 Break\n20:00 Talk 2\n21:00 Drinks
URL:https://nljug.org/evenement/codestar-night-presents-angular-pwas-and-paas-with-simona-cotin/
CATEGORIES:Partner events
ATTACH;FMTTYPE=image/png:https://nljug.org/wp-content/uploads/2013/04/ordina-2.png
END:VEVENT
END:VCALENDAR