BEGIN:VCALENDAR
VERSION:2.0
PRODID:-//NLJUG - Nederlandse Java User Group - ECPv6.15.20//NONSGML v1.0//EN
CALSCALE:GREGORIAN
METHOD:PUBLISH
X-WR-CALNAME:NLJUG - Nederlandse Java User Group
X-ORIGINAL-URL:https://nljug.org
X-WR-CALDESC:Events for NLJUG - Nederlandse Java User Group
REFRESH-INTERVAL;VALUE=DURATION:PT1H
X-Robots-Tag:noindex
X-PUBLISHED-TTL:PT1H
BEGIN:VTIMEZONE
TZID:Europe/Amsterdam
BEGIN:DAYLIGHT
TZOFFSETFROM:+0100
TZOFFSETTO:+0200
TZNAME:CEST
DTSTART:20170326T010000
END:DAYLIGHT
BEGIN:STANDARD
TZOFFSETFROM:+0200
TZOFFSETTO:+0100
TZNAME:CET
DTSTART:20171029T010000
END:STANDARD
BEGIN:DAYLIGHT
TZOFFSETFROM:+0100
TZOFFSETTO:+0200
TZNAME:CEST
DTSTART:20180325T010000
END:DAYLIGHT
BEGIN:STANDARD
TZOFFSETFROM:+0200
TZOFFSETTO:+0100
TZNAME:CET
DTSTART:20181028T010000
END:STANDARD
BEGIN:DAYLIGHT
TZOFFSETFROM:+0100
TZOFFSETTO:+0200
TZNAME:CEST
DTSTART:20190331T010000
END:DAYLIGHT
BEGIN:STANDARD
TZOFFSETFROM:+0200
TZOFFSETTO:+0100
TZNAME:CET
DTSTART:20191027T010000
END:STANDARD
END:VTIMEZONE
BEGIN:VEVENT
DTSTART;TZID=Europe/Amsterdam:20180508T180000
DTEND;TZID=Europe/Amsterdam:20180508T210000
DTSTAMP:20260425T033926
CREATED:20180419T115437Z
LAST-MODIFIED:20180419T115437Z
UID:2792-1525802400-1525813200@nljug.org
SUMMARY:Spring and Cloud Foundry Meetup
DESCRIPTION:Wat we doen\n\nThis is a combined meetup together with the Dutch Spring Meetup. \n18:00 Registration & Food\n18:40 Short Intro\n18:45 Migrating Rabobank Online from monoliths to microservices with Pivotal Cloud Foundry – Vincent Oostindië\n19:30 Short break\n19:45 Spring Cloud Gateway – Spencer Gibb\n20:45 End \nTitle: Migrating Rabobank Online from monoliths to microservices with Pivotal Cloud Foundry \nAbout a decade ago\, when the world was still all about J2EE and WebSphere application servers\, Rabobank introduced a new Online platform with a custom\, intentionally self-built\, portal framework. Since then our world has changed in many ways. Nobody does portlets anymore; instead we build rich front-end applications backed by services spitting out JSON. Like most of the rest of the world Rabobank moved from waterfall to Agile to DevOps. Microservices came along. Java is no longer the only preferred language on the server. Today\, Rabobank is migrating to a new platform based on Pivotal Cloud Foundry\, that intends to cope with all these changes. In this talk Vincent Oostindië will talk you through a decade of IT at Rabobank Online\, of course focusing on the new platform and the underlying technologies used there\, like Spring Boot and Spring Cloud Services. \nAbout Vincent Oostindië: \nVincent Oostindië is business architect at Rabobank for the Online department\, which consists of about 30 DevOps teams. Vincent is responsible for the overall architecture of the Online channels\, like the public websites\, the secure websites\, and the app. Vincent has been working at Rabobank since 2010\, always at the Online department. Coming in a Java developer/architect\, he transitioned from there to team lead\, to solution architect and product owner\, to platform architect\, to business architect today. \nTitle: Spring Cloud Gateway \nWhat is an API Gateway and how can your microservices architecture benefit by using one? What are the types API Gateways? What characteristics define each type of API Gateway? Join Spring Cloud co-lead Spencer Gibb for discussion and demonstration of the next generation of API Gateway\, Spring Cloud Gateway and about its architecture and developer experience. Learn about route matching and filtering and how it is different than the previous Zuul 1 experience. Features of Spring Cloud Gateway include\, support for websockets\, reactive developer experience and rate limiting\, to name a few. \nSpencer Gibb\nSpring Cloud co-founder and co-lead \nSpencer is an industry veteran with experience in e-commerce platforms\, government and non-profit organizations to business intelligence startups.
URL:https://nljug.org/evenement/spring-and-cloud-foundry-meetup/
CATEGORIES:Partner events
ATTACH;FMTTYPE=image/png:https://nljug.org/wp-content/uploads/2017/10/pivotal-2.png
END:VEVENT
END:VCALENDAR