BEGIN:VCALENDAR
VERSION:2.0
PRODID:-//NLJUG - Nederlandse Java User Group - ECPv6.15.20//NONSGML v1.0//EN
CALSCALE:GREGORIAN
METHOD:PUBLISH
X-WR-CALNAME:NLJUG - Nederlandse Java User Group
X-ORIGINAL-URL:https://nljug.org
X-WR-CALDESC:Events for NLJUG - Nederlandse Java User Group
REFRESH-INTERVAL;VALUE=DURATION:PT1H
X-Robots-Tag:noindex
X-PUBLISHED-TTL:PT1H
BEGIN:VTIMEZONE
TZID:Europe/Amsterdam
BEGIN:DAYLIGHT
TZOFFSETFROM:+0100
TZOFFSETTO:+0200
TZNAME:CEST
DTSTART:20170326T010000
END:DAYLIGHT
BEGIN:STANDARD
TZOFFSETFROM:+0200
TZOFFSETTO:+0100
TZNAME:CET
DTSTART:20171029T010000
END:STANDARD
BEGIN:DAYLIGHT
TZOFFSETFROM:+0100
TZOFFSETTO:+0200
TZNAME:CEST
DTSTART:20180325T010000
END:DAYLIGHT
BEGIN:STANDARD
TZOFFSETFROM:+0200
TZOFFSETTO:+0100
TZNAME:CET
DTSTART:20181028T010000
END:STANDARD
BEGIN:DAYLIGHT
TZOFFSETFROM:+0100
TZOFFSETTO:+0200
TZNAME:CEST
DTSTART:20190331T010000
END:DAYLIGHT
BEGIN:STANDARD
TZOFFSETFROM:+0200
TZOFFSETTO:+0100
TZNAME:CET
DTSTART:20191027T010000
END:STANDARD
END:VTIMEZONE
BEGIN:VEVENT
DTSTART;TZID=Europe/Amsterdam:20180507T170000
DTEND;TZID=Europe/Amsterdam:20180507T210000
DTSTAMP:20260425T033926
CREATED:20180417T145615Z
LAST-MODIFIED:20180417T145615Z
UID:2760-1525712400-1525726800@nljug.org
SUMMARY:Build Viewing Party
DESCRIPTION:Omschrijving\nTijdens de Microsoft Build conferentie in Seattle waarbij toptechneuten van Microsoft aan het woord zijn houden wij een Build Viewing Party! \nHierbij gaan we de presentaties live meekijken via een groot scherm. Dit biedt een uitgelegen kans om kennis op te doen en te discussiëren met vakgenoten over de verschillende thema’s. \nMeer informatie over de Microsoft Build conferentie? Zie: https://www.microsoft.com/en-us/build \nProgramma\nAanvang is om 17:00 en voor eten en drinken wordt gezorgd.  \nIedereen is welkom\, dus nodig zo veel mogelijk vakgenoten uit voor een grote opkomst.
URL:https://nljug.org/evenement/build-viewing-party/
CATEGORIES:Partner events
ATTACH;FMTTYPE=image/png:https://nljug.org/wp-content/uploads/2013/04/luminis-2.png
END:VEVENT
END:VCALENDAR