BEGIN:VCALENDAR
VERSION:2.0
PRODID:-//NLJUG - Nederlandse Java User Group - ECPv6.15.20//NONSGML v1.0//EN
CALSCALE:GREGORIAN
METHOD:PUBLISH
X-WR-CALNAME:NLJUG - Nederlandse Java User Group
X-ORIGINAL-URL:https://nljug.org
X-WR-CALDESC:Events for NLJUG - Nederlandse Java User Group
REFRESH-INTERVAL;VALUE=DURATION:PT1H
X-Robots-Tag:noindex
X-PUBLISHED-TTL:PT1H
BEGIN:VTIMEZONE
TZID:Europe/Amsterdam
BEGIN:DAYLIGHT
TZOFFSETFROM:+0100
TZOFFSETTO:+0200
TZNAME:CEST
DTSTART:20170326T010000
END:DAYLIGHT
BEGIN:STANDARD
TZOFFSETFROM:+0200
TZOFFSETTO:+0100
TZNAME:CET
DTSTART:20171029T010000
END:STANDARD
BEGIN:DAYLIGHT
TZOFFSETFROM:+0100
TZOFFSETTO:+0200
TZNAME:CEST
DTSTART:20180325T010000
END:DAYLIGHT
BEGIN:STANDARD
TZOFFSETFROM:+0200
TZOFFSETTO:+0100
TZNAME:CET
DTSTART:20181028T010000
END:STANDARD
BEGIN:DAYLIGHT
TZOFFSETFROM:+0100
TZOFFSETTO:+0200
TZNAME:CEST
DTSTART:20190331T010000
END:DAYLIGHT
BEGIN:STANDARD
TZOFFSETFROM:+0200
TZOFFSETTO:+0100
TZNAME:CET
DTSTART:20191027T010000
END:STANDARD
END:VTIMEZONE
BEGIN:VEVENT
DTSTART;VALUE=DATE:20180410
DTEND;VALUE=DATE:20180411
DTSTAMP:20260425T051315
CREATED:20180227T132636Z
LAST-MODIFIED:20180227T132755Z
UID:2499-1523318400-1523404799@nljug.org
SUMMARY:Innovatos Plaza 2018 - Atos (Groningen)
DESCRIPTION:Join us at our innovative and network event and we will show you the latest technology and innovations: Artificial Intelligence\, smart things\, robotics\, augmented reality and a diversity of other technologies we already use in our daily life and which are rapidly taking over all the old ways of working. Our experts will be available at a stand and will throughout the evening present continuous sessions\, breakouts and workshops. All our experts are looking forward on meeting you and showing you their innovations and projects about data analytics\, blockchain\, security\, hybrid cloud\, low coding platforms\, SAP/HANA and much more. \nMeer informatie & aanmelden
URL:https://nljug.org/evenement/innovatos-plaza-2018-atos-groningen/
CATEGORIES:Partner events
ATTACH;FMTTYPE=image/jpeg:https://nljug.org/wp-content/uploads/2018/02/Atos.jpg
END:VEVENT
BEGIN:VEVENT
DTSTART;TZID=Europe/Amsterdam:20180410T173000
DTEND;TZID=Europe/Amsterdam:20180410T200000
DTSTAMP:20260425T051315
CREATED:20180323T102810Z
LAST-MODIFIED:20180323T102810Z
UID:2651-1523381400-1523390400@nljug.org
SUMMARY:Battle on the JVM – 10 april 2018 – Quintor Amersfoort
DESCRIPTION:Battle on the JVM – 10 april 2018 – Quintor Amersfoort\nBij Quintor zijn we dol op programmeren. Naast Java houden we ook van talen zoals Kotlin en Scala. Deze avond behandelen we deze talen in het kort en zetten onze experts de voor- en nadelen tegen elkaar af. Niet alleen de taalaspecten komen aan de orde\, maar ook de toepassing ervan binnen een organisatie. We gaan met elkaar en het publiek in discussie. Dus\, deel je ook graag jouw kennis hierover of ben je gewoonweg nieuwsgierig geworden? Meld je dan hier aan! \nProgramma\n17:30 uur Ontvangst met warme maaltijd\n18:30 uur Presentaties over Java\, Kotlin en Scala\n19:15 uur Pauze\n19:30 uur Panelsessie\n20:00 uur Drinks & discussions \nAan deze sessie zijn geen kosten verbonden. Er is voldoende (gratis) parkeergelegenheid.
URL:https://nljug.org/evenement/battle-jvm-10-april-2018-quintor-amersfoort/
CATEGORIES:Partner events
ATTACH;FMTTYPE=image/png:https://nljug.org/wp-content/uploads/2018/03/quintor.png
END:VEVENT
END:VCALENDAR