BEGIN:VCALENDAR
VERSION:2.0
PRODID:-//NLJUG - Nederlandse Java User Group - ECPv6.15.20//NONSGML v1.0//EN
CALSCALE:GREGORIAN
METHOD:PUBLISH
X-WR-CALNAME:NLJUG - Nederlandse Java User Group
X-ORIGINAL-URL:https://nljug.org
X-WR-CALDESC:Events for NLJUG - Nederlandse Java User Group
REFRESH-INTERVAL;VALUE=DURATION:PT1H
X-Robots-Tag:noindex
X-PUBLISHED-TTL:PT1H
BEGIN:VTIMEZONE
TZID:Europe/Amsterdam
BEGIN:DAYLIGHT
TZOFFSETFROM:+0100
TZOFFSETTO:+0200
TZNAME:CEST
DTSTART:20180325T010000
END:DAYLIGHT
BEGIN:STANDARD
TZOFFSETFROM:+0200
TZOFFSETTO:+0100
TZNAME:CET
DTSTART:20181028T010000
END:STANDARD
BEGIN:DAYLIGHT
TZOFFSETFROM:+0100
TZOFFSETTO:+0200
TZNAME:CEST
DTSTART:20190331T010000
END:DAYLIGHT
BEGIN:STANDARD
TZOFFSETFROM:+0200
TZOFFSETTO:+0100
TZNAME:CET
DTSTART:20191027T010000
END:STANDARD
BEGIN:DAYLIGHT
TZOFFSETFROM:+0100
TZOFFSETTO:+0200
TZNAME:CEST
DTSTART:20200329T010000
END:DAYLIGHT
BEGIN:STANDARD
TZOFFSETFROM:+0200
TZOFFSETTO:+0100
TZNAME:CET
DTSTART:20201025T010000
END:STANDARD
END:VTIMEZONE
BEGIN:VEVENT
DTSTART;TZID=Europe/Amsterdam:20190312T083000
DTEND;TZID=Europe/Amsterdam:20190312T180000
DTSTAMP:20260424T113545
CREATED:20190304T144606Z
LAST-MODIFIED:20190304T144708Z
UID:3966-1552379400-1552413600@nljug.org
SUMMARY:Oracle Cloud Day 2019 - Oracle
DESCRIPTION:Your Future Runs on Cloud \nHoe ver bent u met uw reis naar de Cloud? \nVeranderingen zijn een constant onderdeel in ons leven. Om te blijven concurreren en voorop te lopen\, hebben organisaties te maken met opkomende technologieën zoals Blockchain\, IoT\, AI en Machine Learning. \nKom ook naar de Oracle Cloud Day op 12 maart 2019 en hoor hoe u nieuwe wegen kunt inslaan en uw toekomst vandaag al creëert. \nTijdens de Oracle Cloud Day organiseren wij meerdere demo’s en Hands-on Testdrives. Ter plekke kunt u deelnemen aan:\n\n\n\nOracle Data Visualization\n\n\nOracle Management Cloud & Autonomous\n\n\nOracle Visual Builder Cloud Service\n\n\nOracle Chatbots/Digital Assistant\n\n\nOracle Integration & API Management\n\n\n\nWaarom deelnemen aan de Orcale Cloud Day?\n\n\n\nInspiratie: innovaties en demonstraties op de Experience Plaza\n\n\nInnovatie: ontdek tijdens inspirerende sessies hoe u gebruikmaakt van de nieuwste technologieën\, waaronder AI\, blockchain\, machine learning\, chatbots en meer\n\n\nKennis: best practices en klanten aan het woord\n\n\nNetwerken: met peers\, Oracle specialisten en partners\n\n\n\nLaat u inspireren tijdens de Oracle Cloud Day op 12 maart 2019. \nRegister
URL:https://nljug.org/evenement/orcale-cloud-day-2019-orcale/
CATEGORIES:Partner events
ATTACH;FMTTYPE=image/png:https://nljug.org/wp-content/uploads/2019/03/oracle-logo-4.png
END:VEVENT
BEGIN:VEVENT
DTSTART;TZID=Europe/Amsterdam:20190320T180000
DTEND;TZID=Europe/Amsterdam:20190320T210000
DTSTAMP:20260424T113545
CREATED:20190114T123735Z
LAST-MODIFIED:20190301T143341Z
UID:3910-1553104800-1553115600@nljug.org
SUMMARY:Workshop hands-on met Vue.js - JDriven
DESCRIPTION:Op woensdag 20 maart organiseren wij om 18.00 uur op ons kantoor in Nieuwegein een hands-on workshop met Vue.js. \nVue.js\, is een progressive framework op basis van JavaScript\, gecreëerd door Evan You en officieel gelanceerd in 2014. Vue.js is erg geschikt om op een eenvoudige manier inhoud dynamisch te tonen maar kan ook worden gebruik om complexe Single Page Applications (SPA) te ontwikkelen. \nVoor wie?\nBen je een frontend developer\, benieuwd naar de kracht van Vue.js en wil je hands-on aan de slag met Vue.js? Dan mag je deze workshop niet missen! \nWat gaan we doen?\nWe gaan verder dan een “hello world” applicatie en laten je kennismaken met de concepten achter Vue.js waarbij je toewerkt naar een progressive single page application.
URL:https://nljug.org/evenement/workshop-hands-on-met-vue-js-jdriven/
CATEGORIES:Partner events
ATTACH;FMTTYPE=image/png:https://nljug.org/wp-content/uploads/2019/01/jdriven-2.png
END:VEVENT
BEGIN:VEVENT
DTSTART;TZID=Europe/Amsterdam:20190321T080000
DTEND;TZID=Europe/Amsterdam:20190322T170000
DTSTAMP:20260424T113545
CREATED:20190110T085546Z
LAST-MODIFIED:20190110T124742Z
UID:3867-1553155200-1553274000@nljug.org
SUMMARY:Spring One Tour - Pivotal
DESCRIPTION:Save the Date! Spring One Tour\, Amsterdam 21-22 March\nSpringOne Tour brings the best Cloud-Native Java content directly to you. In 2 days\, you’ll learn about both traditional monolithic and modern\, Cloud-Native Java from the source. Experience valuable facetime with expert Pivotal speakers in both traditional presentation and informal Pivotal Conversations about modern Application Development\, DevOps\, CI/CD\, Cloud and more. \nSpeakers include: Josh Long\, Mark Heckler\, Dave Syer\, Matt Stine and many more \n  \nAgenda Day 1\n\n\n\n8:00AM\nBreakfast\n\n\n\n\n8:45AM\nWelcome\n\n\n\n\n9:00AM\nBetter Software is Better than Worse Software\n\n\n\n\n9:55AM\nReactive Spring with Spring Boot 2.0\n\n\n\n\n10:45AM\nBreak\n\n\n\n\n11:15AM\nServerless Spring\n\n\n\n\n12:05PM\nBootiful Reactive Testing\n\n\n\n\n1:00PM\nLunch\n\n\n\n\n2:00PM\nPivotal Conversations\n\n\n\n\n5:00PM\nNetworking & Social\n\n\n\n\n7:00PM\nDay Ends\n\n\n\n  \nAgenda Day 2\n\n\n\n8:00AM\nBreakfast\n\n\n\n\n8:45AM\nWelcome\n\n\n\n\n9:00AM\nThinking Architecturally\n\n\n\n\n9:55AM\nPCF Use Case Talk\n\n\n\n\n10:45AM\nBreak\n\n\n\n\n11:15AM\nUsing Spinnaker to Create a Development Workflow on Kubernetes\n\n\n\n\n12:05PM\nScheduling Apps in the Cloud\n\n\n\n\n1:00PM\nLunch\n\n\n\n\n2:00PM\nHow Fast is Spring?\n\n\n\n\n2:50PM\nCloud Event Driven Architectures with Spring Cloud Stream 2.0\n\n\n\n\n3:40PM\nBreak\n\n\n\n\n4:10PM\nCloud-Native Spring\n\n\n\n\n5:00PM\nDay Ends\n\n\n\nFor more information\, visit the website \nRegister
URL:https://nljug.org/evenement/spring-one-tour-pivotal/
CATEGORIES:Partner events
ATTACH;FMTTYPE=image/png:https://nljug.org/wp-content/uploads/2019/01/2000px-Pivotal_Software_logo.svg_.png
END:VEVENT
BEGIN:VEVENT
DTSTART;TZID=Europe/Amsterdam:20190326T173000
DTEND;TZID=Europe/Amsterdam:20190326T210000
DTSTAMP:20260424T113545
CREATED:20190228T155449Z
LAST-MODIFIED:20190228T155449Z
UID:3957-1553621400-1553634000@nljug.org
SUMMARY:Machine Learning Insights into Google Brain and Dutch Cows - Dataworkz
DESCRIPTION:What does Google Brain and Dutch cows have in common?\nThey both generate tons of data and are therefore the center for leveraging cutting edge machine learning and data science techniques.\nTim Salimans from Google will tell you how generative models are scaled up and give you some rare insights into the Google Brain.\nExpect some more insights when Arie Twigt will take you to a deep dive into ML/AI and IOT that nedap uses to track cows. \nProgram:\n18:30 food\n19:00 talks\n21:00 drinks \nTalk 1:\nSpeaker: Arie Twigt\nCompany: DataWorkz\nApplying Machine Learning to cows at Nedap \nIn this talk we will deep dive into Machine Learning application that uses data collected from cows\, Yes! actual living cows.\nIf you know what wearables like Fitbits are\, you might be able to imagine what a neck-tag for a cow is. \nLots of data about the behavior of a cow is generated by those neck tags and that provides the ability to describe en predict different aspects of a cow. I am more than willingly to take you into our journey we are having by gathering valuable information from this data. I will take you into a deep dive of the techniques and tooling we applied like:\n– R\n– Rcpp\n– Shiny by RStudio\n– Plotly\n– NodeJS\n– ReactJS\n– Data preparation in dplyr\n– Feature Engineering in C++ (with Rcpp)\n– Gradient Boosting models\n– And many more \nAbout Nedap: Nedap N.V. is worldwide organisation with the Headquarters based in Groenlo with its mission stated as “Moving markets with technology that matters. One of that markets is the Livestock market with dairy farms as one of their target audiences \nTalk 2:\nSpeaker: Tim Salimans\nCompay: Google\nFrom MNIST to Imagenet: Scaling up generative models at Google Brain \nThe field of generative modeling has made enormous strides over the past few years. Generative models\, neural networks that generate data rather than just predict their labels\, had a hard time modeling the MNIST handwritten digits just three years ago. Now they are generating high fidelity natural images and audio that are hard to distinguish from real data. We were able to make this leap by inventing smarter algorithms (VAEs\, GANs\, autoregressive models) and by building better hardware (GPUs\, TPUs). In this talk I will discuss how these innovations came about\, and what new applications and products they are starting to enable. \nRegister
URL:https://nljug.org/evenement/machine-learning-insights-into-google-brain-and-dutch-cows-dataworkz/
CATEGORIES:Partner events
ATTACH;FMTTYPE=image/png:https://nljug.org/wp-content/uploads/2018/10/download.png
END:VEVENT
BEGIN:VEVENT
DTSTART;TZID=Europe/Amsterdam:20190328T173000
DTEND;TZID=Europe/Amsterdam:20190328T210000
DTSTAMP:20260424T113545
CREATED:20190320T142014Z
LAST-MODIFIED:20190320T142409Z
UID:4028-1553794200-1553806800@nljug.org
SUMMARY:Webcomponents en Angular; twee smaken modern web development - Malmberg
DESCRIPTION:Wat we doen\n\nFrontend-liefhebbers opgelet: \nMalmberg houdt op 28 maart weer een nieuwe Malmberg Meetup met daarin twee nieuwe\, interessante onderwerpen over frontend development. \nInteresse? Wees er snel bij en geef vast aan dat je komt! De meetup is gratis\, maar het aantal plaatsen is beperkt. \nMalmberg zorgt voor avondeten. \nProgramma\n17.30 – 18:00 Inloop en eten\n18.00 – 19:00 Dirk Luijk ~ Two Years of Angular: Lessons Learned\n19:00 – 19:30 Pauze\n19:30 – 20:30 Elger van Boxtel ~ Web Components (in Stencil)\n20:30 – 21:00 Borrel \nTwo Years of Angular: Lessons Learned\nEen collectie van do’s and don’ts\, geleerd gedurende de afgelopen twee jaar met het gebruik van Angular. In deze presentatie laat Dirk zijn hoe Bingel is gebouwd met Angular en welke lessen daaruit getrokken zijn. Bingel is het adaptieve leerplatform van Sanoma Learning voor het basisonderwijs. \nDirk Luijk is een jonge\, ambitieuze programmeur en software-architect met ervaring in frontend (Angular\, Typescript\, SASS) en backend development. Hij heeft veel ervaring met verschillende technieken en weet veel over diverse tooling. Dirk is een flexibele teamspeler en altijd gretig om nieuwe technieken te leren. Momenteel werkt hij als Angular-specialist bij Craftsmen en deelt hij zijn kennis via blogs\, YouTube-video’s en kennissessies. \nWebComponents (in Stencil)\nIn deze sessie neemt Elger je mee in de wereld van WebComponents. Wat zijn het\, wat kunnen we ermee en hoe kunnen we ze nu al gebruiken?\nAls basis wordt gebruik gemaakt van vanilla JavaScript voorbeelden\, later wordt Stencil gebruikt om webcomponents te maken.\nNa deze sessie heb je antwoord op deze vragen en kun je aan de slag met WebComponents. \nElger van Boxtel is een enthousiaste frontend developer met ruime ervaring in Angular\, build tooling en andere frontend technieken.\nOoit begonnen als Java developer en langzaam de overstap gemaakt naar de frontend. \nVideo’s van eerdere meetups vind je op ons Youtube kanaal:\nhttps://www.youtube.com/channel/UCWFcWeuVY04lvKUmaMYrRRA \n\nAanmelden
URL:https://nljug.org/evenement/webcomponents-en-angular-twee-smaken-modern-web-development-malmberg/
CATEGORIES:Partner events
ATTACH;FMTTYPE=image/jpeg:https://nljug.org/wp-content/uploads/2018/04/malmberg1.jpg
END:VEVENT
END:VCALENDAR