BEGIN:VCALENDAR
VERSION:2.0
PRODID:-//NLJUG - Nederlandse Java User Group - ECPv6.15.20//NONSGML v1.0//EN
CALSCALE:GREGORIAN
METHOD:PUBLISH
X-ORIGINAL-URL:https://nljug.org
X-WR-CALDESC:Events for NLJUG - Nederlandse Java User Group
REFRESH-INTERVAL;VALUE=DURATION:PT1H
X-Robots-Tag:noindex
X-PUBLISHED-TTL:PT1H
BEGIN:VTIMEZONE
TZID:Europe/Amsterdam
BEGIN:DAYLIGHT
TZOFFSETFROM:+0100
TZOFFSETTO:+0200
TZNAME:CEST
DTSTART:20180325T010000
END:DAYLIGHT
BEGIN:STANDARD
TZOFFSETFROM:+0200
TZOFFSETTO:+0100
TZNAME:CET
DTSTART:20181028T010000
END:STANDARD
BEGIN:DAYLIGHT
TZOFFSETFROM:+0100
TZOFFSETTO:+0200
TZNAME:CEST
DTSTART:20190331T010000
END:DAYLIGHT
BEGIN:STANDARD
TZOFFSETFROM:+0200
TZOFFSETTO:+0100
TZNAME:CET
DTSTART:20191027T010000
END:STANDARD
BEGIN:DAYLIGHT
TZOFFSETFROM:+0100
TZOFFSETTO:+0200
TZNAME:CEST
DTSTART:20200329T010000
END:DAYLIGHT
BEGIN:STANDARD
TZOFFSETFROM:+0200
TZOFFSETTO:+0100
TZNAME:CET
DTSTART:20201025T010000
END:STANDARD
END:VTIMEZONE
BEGIN:VEVENT
DTSTART;TZID=Europe/Amsterdam:20190206T183000
DTEND;TZID=Europe/Amsterdam:20190206T210000
DTSTAMP:20260424T125815
CREATED:20190110T124319Z
LAST-MODIFIED:20190110T124630Z
UID:3873-1549477800-1549486800@nljug.org
SUMMARY:Clean code with Uncle Bob - Apeldoorn JUG
DESCRIPTION:Wij zijn erg blij om de oprichting van Apeldoorn JUG bekend te maken. Deze lokale JUG\, die nauw samenwerkt met de NLJUG\, is een initiatief van: De Belastingdienst\, Het Kadaster\, Luminis Apeldoorn en Profit4Cloud. We willen de start van de Apeldoorn JUG op een spetterende manier vieren. Dat doen we uiteraard door het delen van kennis met een spreker van wereldformaat: Robert C. Martin ook wel bekend als Uncle Bob. \nDe locatie is in Apeldoorn\, deze is echter afhankelijk van het aantal inschrijvingen. De locatie is eind januari bekend en wordt uiteraard zo spoedig mogelijk aan de ingeschreven mensen gecommuniceerd. \nDe talks van Robert C. Martin zijn in het Engels. Hij zal het hebben over thema’s rondom Clean Code: \nClean Code I: Args (Java)\nKeeping code clean is a simple matter of professional ethics. In this talk Robert Martin shows how a Java module can start clean\, grow to become messy\, and then be refactored back to cleanliness. Be forewarned: his tutorial is about CODE. We will put code on the screen and we will read and critique it. And then\, one tiny step at a time\, we will clean it. In this tutorial\, you will participate in the step by step improvement of a module. You will see the techniques of the Prime Directive (Never Be Blocked)\, and Agile Design Principles brought into play. You will witness the decision making process that Agile Developers employ to write code that is expressive\, flexible\, and clean. Finally\, you learn an attitude of professional ethics that defines the software developer’s craft. \n  \nClean Code II: Craftsmanship and Ethics\nWhat does it mean to be a professional software developer? What rules do we follow? What attitudes do we hold? And how can we maintain our professionalism in the face of schedule pressure? In this talk Robert C. Martin outlines the practices used by software craftsmen to maintain their professional ethics. He resolves the dilemma of speed vs. quality\, and mess vs schedule. He provides a set of principles and simple Dos and Don’ts for teams who want to be counted as professional craftsmen. \nAgenda\n18:30 Welcome with coffee and tea\n19:00 Clean Code I\n20:00 Clean Code II\n21:00 Drinks & Socializing \nHopelijk tot 6 februari! Mocht je om welke reden dan ook er op 6 februari niet bij zijn\, maar wel geïnteresseerd zijn in de volgende Java Meet-ups van de Apeldoorn JUG\, wordt dan lid van ons Meetup groep op ApeldoornJUG \nWij nodigen je van harte uit om hierbij aanwezig te zijn\, inschrijven kan via: \nAanmelden
URL:https://nljug.org/evenement/clean-code-with-uncle-bob-apeldoorn-jug/
CATEGORIES:Partner events
ATTACH;FMTTYPE=image/jpeg:https://nljug.org/wp-content/uploads/2019/01/UncleBob_v2.jpg
END:VEVENT
BEGIN:VEVENT
DTSTART;TZID=Europe/Amsterdam:20190207T080000
DTEND;TZID=Europe/Amsterdam:20190208T180000
DTSTAMP:20260424T125815
CREATED:20181218T100115Z
LAST-MODIFIED:20190110T130205Z
UID:3851-1549526400-1549648800@nljug.org
SUMMARY:Coding with Uncle Bob -  Rabobank
DESCRIPTION:Always wanted to meet Uncle Bob in person?\nOn 7 || 8 February you can – for FREE! \nWhen: February 7 || 8\, 2019\nWhere: Croeselaan 18\, 3521 CB Utrecht \nString growing = “Coding”;\nString result = String.format(\n“%s a better world together.”\,\ngrowing\n);\nSystem.out.print(result); \nStarring: Robert C. Martin aka “Uncle Bob”\nand many more. \n“Coding a better world together” \nRegister
URL:https://nljug.org/evenement/coding-with-uncle-bob-rabobank/
CATEGORIES:Partner events
ATTACH;FMTTYPE=image/png:https://nljug.org/wp-content/uploads/2017/12/rabobank-2.png
END:VEVENT
BEGIN:VEVENT
DTSTART;TZID=Europe/Amsterdam:20190228T170000
DTEND;TZID=Europe/Amsterdam:20190228T223000
DTSTAMP:20260424T125815
CREATED:20190129T153744Z
LAST-MODIFIED:20190221T140726Z
UID:3920-1551373200-1551393000@nljug.org
SUMMARY:Google Hash Code 2019 - Sultans of Java
DESCRIPTION:Google hash code is a team programming competition organized by Google. Every year people across the globe are participating. Anyone\, students or industry professionals can participate. Are you ready for the challenge? \nJoin with your team to solve a real Google engineering problem. Your team can consist of two\, three or four members. To solve the problem you can pick your own favorite programming language. \nWe would like to invite you to our “sultans of java” hub to meet and compete with other teams. We will take care of food\, drinks and more. It will be an awesome event with lots of fun! Please note that we have limited space available\, first come first serve. \nAgenda \n\nThursday February 28\, 2019 \n17:00 – 17:15 Walk in\n\n\n\n\n17:15 – 18:00 Dinner\n\n\n18:00 – 18:30 Move to Rio de Janeiro hall / prepare for competition\n\n\n18:30 – 22:30 Competition starts\n\n\n22:30 – Competition ends\n\n\n\n\n\nRegister
URL:https://nljug.org/evenement/google-hash-code-2019-sultans-of-java/
CATEGORIES:Partner events
ATTACH;FMTTYPE=image/png:https://nljug.org/wp-content/uploads/2016/05/Sultansofjava.png
END:VEVENT
END:VCALENDAR