BEGIN:VCALENDAR
VERSION:2.0
PRODID:-//NLJUG - Nederlandse Java User Group - ECPv6.15.20//NONSGML v1.0//EN
CALSCALE:GREGORIAN
METHOD:PUBLISH
X-WR-CALNAME:NLJUG - Nederlandse Java User Group
X-ORIGINAL-URL:https://nljug.org
X-WR-CALDESC:Events for NLJUG - Nederlandse Java User Group
REFRESH-INTERVAL;VALUE=DURATION:PT1H
X-Robots-Tag:noindex
X-PUBLISHED-TTL:PT1H
BEGIN:VTIMEZONE
TZID:Europe/Amsterdam
BEGIN:DAYLIGHT
TZOFFSETFROM:+0100
TZOFFSETTO:+0200
TZNAME:CEST
DTSTART:20170326T010000
END:DAYLIGHT
BEGIN:STANDARD
TZOFFSETFROM:+0200
TZOFFSETTO:+0100
TZNAME:CET
DTSTART:20171029T010000
END:STANDARD
BEGIN:DAYLIGHT
TZOFFSETFROM:+0100
TZOFFSETTO:+0200
TZNAME:CEST
DTSTART:20180325T010000
END:DAYLIGHT
BEGIN:STANDARD
TZOFFSETFROM:+0200
TZOFFSETTO:+0100
TZNAME:CET
DTSTART:20181028T010000
END:STANDARD
BEGIN:DAYLIGHT
TZOFFSETFROM:+0100
TZOFFSETTO:+0200
TZNAME:CEST
DTSTART:20190331T010000
END:DAYLIGHT
BEGIN:STANDARD
TZOFFSETFROM:+0200
TZOFFSETTO:+0100
TZNAME:CET
DTSTART:20191027T010000
END:STANDARD
END:VTIMEZONE
BEGIN:VEVENT
DTSTART;TZID=Europe/Amsterdam:20181204T173000
DTEND;TZID=Europe/Amsterdam:20181204T210000
DTSTAMP:20260424T172008
CREATED:20181119T085123Z
LAST-MODIFIED:20181119T155856Z
UID:3764-1543944600-1543957200@nljug.org
SUMMARY:ABN AMRO Innovation Meetup #1 - Java 11 is here! - ABN AMRO
DESCRIPTION:# Agenda\n17.00 – 17.30 Doors open\n17.30 – 18.15 Pizza’s\n18.15 – 18.45 Babysteps in Serverless by Patrick Reitsma (ABN AMRO)\n18.45 – 20.00 Java 11 is here! by Nicolai Parlog\n20.00 – 21.00 Drinks & networking \n# Subscription process\nPlease note that this is a combined meetup for developers of ABN AMRO and everyone interested outside of ABN AMRO! We work with a wait list\, the fist 40 people from ABN AMRO and the first 40 people from outside of the bank will be selected to join the event. \n# About the talks\n– Java 11 Is Here!\nJava 9\, 10\, and 11 are out. Java 9 has a lot in stock beyond the\nmodule system (yes\, I was surprised\, too)\, Java 10 comes with `var`\n(less typing\, but still strongly typed)\, and Java 11 promises pattern\nmatching and a reactive HTTP client. In this talk Nicolai Parlog will tell you all about … \n* new language features like pattern matching\, `var`\, and private\ninterface methods\n* new APIs like stack walking and the reactive HTTP client\n* the additions to existing APIs\, like `Stream` and `Optional`\n* other niceties like multi-release JARs and performance improvements \nAfter this talk you will be prepared to get started with Java 9\, 10\,\nand 11. \n– Babysteps in Serverless\nOne of our own talents at ABN AMRO will step on the stage. Patrick will walk us through the steps of experimenting with new technology. He does this by using an example POC he did on Serverless Computing. \n# About the speaker – Nicolai Parlog \nNicolai is a thirty year old boy\, as the narrator would put it (if he\nsquints)\, who has found his passion in software development. He\nconstantly reads\, thinks\, and writes about it\, and codes for a living\nas well as for fun. \nNicolai is a freelancing developer\, author\, and trainer. He wrote The\nJava Module System[1] with Manning\, blogs about software development\non codefx.org[2]\, has a YouTube channel[3]\, and is a long-tail\ncontributor to several open source projects. You can hire him[4] for\nall kinds of things. \n[1]: https://tiny.cc/jms\n[2]: http://codefx.org\n[3]: https://youtube.com/c/codefx\n[4]: http://tiny.cc/nipafx \n  \nMeer informatie & Aanmelden
URL:https://nljug.org/evenement/abn-amro-innovation-meetup-1-java-11-is-here-abn-amro/
CATEGORIES:Partner events
ATTACH;FMTTYPE=image/png:https://nljug.org/wp-content/uploads/2018/08/ABN-ambro.png
END:VEVENT
BEGIN:VEVENT
DTSTART;TZID=Europe/Amsterdam:20181206T173000
DTEND;TZID=Europe/Amsterdam:20181206T210000
DTSTAMP:20260424T172008
CREATED:20181116T154500Z
LAST-MODIFIED:20181204T111857Z
UID:3759-1544117400-1544130000@nljug.org
SUMMARY:Serverless architectuur voor het onderwijs  & Hoe wij groene vingers kregen door software - Malmberg
DESCRIPTION:Malmberg nodigt je graag uit voor een leerzame meetup voor iedereen die interesse heeft in serverless architectuur. Tijdens deze meetup zal Edwin Derks ons meenemen in de serverless wereld van het onderwijs en laten Arnout Rijpkema en Rick Slinkman ons zien hoe je groene vingers krijgt van software. We verwelkomen je graag met een hapje en een drankje op donderdag 06 december 2018. \nMalmberg is al jaren aan het inzetten op digitalisering van het onderwijs. Een grote stap daarin was migratie van alle soft- en hardware naar de cloud (AWS). Sinds twee jaar zijn we ook Serverless development aan het onderzoeken en toepassen voor bepaalde software oplossingen. Maar wat was de reden hiervoor en hoe is dit verlopen? Waar moet je aan denken bij het bouwen van een Serverless oplossing\, maar ook bij het hosten daarvan? Wij delen graag onze ervaringen met jullie en willen graag onze visie geven op Serverless development nu en in de toekomst. \nHoe wij groene vingers kregen door software\n(sprekers: Arnout Rijpkema & Rick Slinkman) \nBij Malmberg is men constant op zoek naar innovatie. Met name als het een innovatieve technologie betreft die zijn kwaliteit bewijst. Als developers werken wij graag met deze nieuwe technieken\, die we vervolgens bij Malmberg willen toepassen. \nIn deze sessie leggen wij uit hoe wij een proeftuin hebben opgezet voor innovatieve techniek met daarin microservices\, Kubernetes\, Lambdas\, een Alexa skill en nog veel meer. De proeftuin is in de eerste plaats om onze leidinggevenden te bewijzen hoe goed de innovatie is\, maar vooral omdat het gewoon gaaf is! \nAgenda\n17.30 – 18:00\nInloop + eten \n18.00 – 18:15\nIntroductie door Robert-Jan Noordegraaf \n18.15 – 19:00\nServerless architectuur voor het onderwijs \n19.00 – 19:15\nKorte break \n19.15 – 20:00\nHoe wij groene vingers kregen door software \n20.00 – 21:00\nBorrel \n  \nAanmelden
URL:https://nljug.org/evenement/serverless-architectuur-voor-het-onderwijs-hoe-wij-groene-vingers-kregen-door-software-malmberg/
CATEGORIES:Partner events
ATTACH;FMTTYPE=image/jpeg:https://nljug.org/wp-content/uploads/2018/04/malmberg1.jpg
END:VEVENT
BEGIN:VEVENT
DTSTART;VALUE=DATE:20181212
DTEND;VALUE=DATE:20181213
DTSTAMP:20260424T172008
CREATED:20180301T133519Z
LAST-MODIFIED:20180301T133603Z
UID:2519-1544572800-1544659199@nljug.org
SUMMARY:Camunda BPM for Java Developers - Camunda
DESCRIPTION:In our three-day training for developers we prepare you for using the open source Camunda BPM platform successfully in your own projects. Camunda BPM can be used as a lightweight workflow engine\, as a BPM Platform or as the core component of your company wide SOA. \nMeer informatie & aanmelden
URL:https://nljug.org/evenement/camunda-bpm-java-developers-camunda/
CATEGORIES:Partner events
ATTACH;FMTTYPE=image/png:https://nljug.org/wp-content/uploads/2018/03/download.png
END:VEVENT
BEGIN:VEVENT
DTSTART;TZID=Europe/Amsterdam:20181213T173000
DTEND;TZID=Europe/Amsterdam:20181213T210000
DTSTAMP:20260424T172008
CREATED:20181123T065246Z
LAST-MODIFIED:20181123T065246Z
UID:3770-1544722200-1544734800@nljug.org
SUMMARY:How To Get Your Site Hacked with Michael Kubiaczyk - Codestar
DESCRIPTION:The proof that secure programming does not have to be boring programming can be found in the talks by Michael from Secura. As a security expert\, he tells about his experience with plenty of real life examples\, making abstract security threats tangible and helping us to counteract them. \nTalk 1: Web Application Security Testing\nIn this session\, we will discuss many common web application security vulnerabilities\, typical development mistakes leading to these issues\, and how to use standard tools (such as Burp Suite Proxy) to find them before it’s too late! \nTalk 2: Red-Teaming — What and How?\nWe will walk through an actual assignment which was executed by Secura\, in which a developer laptop was obtained\, compromised\, and then used as a stepping stone into an organisation’s network to get to the Crown Jewels! \nMore about these talks and Michael \nProgram\n17:30 Doors open and registration \n18:00 Food \n18:30 Talk 1: Web Application Security Testing \n19:30 Break \n20:00 Talk 2: Red-Teaming — What and How? \n21:00 Drinks \nAanmelden
URL:https://nljug.org/evenement/how-to-get-your-site-hacked-with-michael-kubiaczyk-codestar/
CATEGORIES:Partner events
ATTACH;FMTTYPE=image/png:https://nljug.org/wp-content/uploads/2018/08/codestar_logo_light_tagline_5bwidth3d5125d402x.png
END:VEVENT
END:VCALENDAR