BEGIN:VCALENDAR
VERSION:2.0
PRODID:-//NLJUG - Nederlandse Java User Group - ECPv6.15.20//NONSGML v1.0//EN
CALSCALE:GREGORIAN
METHOD:PUBLISH
X-WR-CALNAME:NLJUG - Nederlandse Java User Group
X-ORIGINAL-URL:https://nljug.org
X-WR-CALDESC:Events for NLJUG - Nederlandse Java User Group
REFRESH-INTERVAL;VALUE=DURATION:PT1H
X-Robots-Tag:noindex
X-PUBLISHED-TTL:PT1H
BEGIN:VTIMEZONE
TZID:Europe/Amsterdam
BEGIN:DAYLIGHT
TZOFFSETFROM:+0100
TZOFFSETTO:+0200
TZNAME:CEST
DTSTART:20170326T010000
END:DAYLIGHT
BEGIN:STANDARD
TZOFFSETFROM:+0200
TZOFFSETTO:+0100
TZNAME:CET
DTSTART:20171029T010000
END:STANDARD
BEGIN:DAYLIGHT
TZOFFSETFROM:+0100
TZOFFSETTO:+0200
TZNAME:CEST
DTSTART:20180325T010000
END:DAYLIGHT
BEGIN:STANDARD
TZOFFSETFROM:+0200
TZOFFSETTO:+0100
TZNAME:CET
DTSTART:20181028T010000
END:STANDARD
BEGIN:DAYLIGHT
TZOFFSETFROM:+0100
TZOFFSETTO:+0200
TZNAME:CEST
DTSTART:20190331T010000
END:DAYLIGHT
BEGIN:STANDARD
TZOFFSETFROM:+0200
TZOFFSETTO:+0100
TZNAME:CET
DTSTART:20191027T010000
END:STANDARD
END:VTIMEZONE
BEGIN:VEVENT
DTSTART;VALUE=DATE:20181107
DTEND;VALUE=DATE:20181108
DTSTAMP:20260424T172006
CREATED:20180509T122734Z
LAST-MODIFIED:20180509T123136Z
UID:3138-1541548800-1541635199@nljug.org
SUMMARY:Masters of Java 2018
DESCRIPTION:Masters of Java\, welke zichzelf respecterende Nederlandse Javaan kent het officieuze NK programmeren niet? Al enkele jaren strijden de beste Java programmeurs van Nederland om deze prestigieuze titel. Dit jaar zal er naast een individuele competitie ook een bedrijvencompetitie zijn\, om nog meer dynamiek te geven. Ook zal de Masters of Java weer onderdeel zijn van de pre-conferentie van J-Fall. Opgeven is nu dushelemaal een nobrainer\, want wat is nou een betere voorbereiding voor J-Fall 2018 dan het op te nemen tegen mede-NLJUG’ers in een heuse competitie? \nBovendien zijn alle deelnemers van de Masters of Java na afloop van harte welkom om aan te schuiven bij de aansluitende borrel. Momenteel wordt er nog nagedacht over het aanbieden van een overnachtingsarrangement\, dat aansluit op J-Fall 2018. \nWanneer: woensdag 7 november \nWaar: van der Valk hotel in Veenendaal (vlakbij locatie J-Fall) \nKosten: Gratis \nOrganisatie: NLJUG \nHoofdsponsor: First8 \nOver de competitie: De Masters of Java is een roemruchte “funprogging contest” (gebaseerd op Java SE)\, die toegankelijk is voor iedere Java ontwikkelaar. In deze wedstrijd wordt niet de API-kennis\, maar de echte programmeervaardigheid getest. In voorgaande edities heeft Masters of Java al heel wat verhitte strijd opgeleverd. We hopen ook dit jaar weer veel vuurwerk te zien. In de verschillende rondes die de wedstrijd telt\, wordt iedere keer een grappige of interessante programmeeropdracht uitgedeeld\, die vervolgens binnen een half uur opgelost moet worden. Voor iedere seconde die je overhoudt\, scoor je een punt. \nTeams bestaan maximaal uit 2 ontwikkelaars en het team dat aan het einde van de dag de meeste punten heeft\, mag zich “Master of Java 2018” noemen. Er zal naast eeuwige roem natuurlijk gestreden worden voor mooie en spectaculaire prijzen! \nDus schrijf je nu hieronder in voor de Masters of Java 2018 en win de titel Master of Java! Wil je meer weten? Stuur een mail naar Roy Wasse (roy.wasse@nljug.org).
URL:https://nljug.org/evenement/masters-of-java-2018/
CATEGORIES:Partner events
ATTACH;FMTTYPE=image/png:https://nljug.org/wp-content/uploads/2018/05/Masters-of-Java.png
END:VEVENT
BEGIN:VEVENT
DTSTART;TZID=Europe/Amsterdam:20181113T170000
DTEND;TZID=Europe/Amsterdam:20181113T193000
DTSTAMP:20260424T172006
CREATED:20181002T133340Z
LAST-MODIFIED:20181018T104501Z
UID:3647-1542128400-1542137400@nljug.org
SUMMARY:Team Rockstars IT presents Venkat Subramaniam – Team Rockstars IT
DESCRIPTION:Met gepaste trots presenteert Team Rockstars IT niemand minder dan Java-Guru en grondlegger van Agile Developer Venkat Subramaniam! And you’re invited!In zijn keynote sessie “Don’t Walk Away from Complexity\, Run!” deelt Venkat zijn kennis over de complexiteit van verandering;\n“an award winning author and software practitioner will share experiences and observations from working on multiple software projects\, about what leads to complexities\, the traps developers and organizations fall into\, and what we can do to effectively deal with these common\, recurring issues we see across domains and products.” \nDeze sessie wordt gegeven in het Engels. Gedetailleerde informatie over zijn sessie kan je terugvinden via ons event-label TeamUP IT. \nEr zijn zeer beperkt plekken beschikbaar; wil je hierbij aanwezig zijn claim dan snel je ticket! \nDate\n13 november 2018 \nProgram\n17.00 uur: Dinner & Drinks\n18.00 uur: Don’t walk away from Complexity: Run! (Part 1)\n19.00 uur: Break\n19.15 uur: Don’t walk away from Complexity: Run! (Part 2) \nMerchandise\nBen je erbij? Vergeet dan niet je maat door te geven voor de exclusieve Team Rockstars IT X Venkat Subramaniam Merchandise! \nCosts\nFree \nVenue\nTeam Rockstars IT HQ – Lekkerbeetjesstraat 8 ’s-Hertogenbosch \nAanmelden
URL:https://nljug.org/evenement/team-rockstars-it-presents-venkat-subramaniam-team-rockstars-it/
CATEGORIES:Partner events
ATTACH;FMTTYPE=image/png:https://nljug.org/wp-content/uploads/2017/10/team-rockstars-it-2.png
END:VEVENT
BEGIN:VEVENT
DTSTART;TZID=Europe/Amsterdam:20181119T123000
DTEND;TZID=Europe/Amsterdam:20181119T170000
DTSTAMP:20260424T172006
CREATED:20181029T101227Z
LAST-MODIFIED:20181029T101227Z
UID:3701-1542630600-1542646800@nljug.org
SUMMARY:Speed up...! | Cloud Seminar - Rabobank
DESCRIPTION:Software is meaningless unless it’s in production\, adding value for you and your customers. So how to get there the quickest? Without sacrificing quality? Mario Gray from Pivotal will demonstrate several techniques and tools in getting to production more quickly while maintaining or increasing quality. Vincent Oostindië from Rabobank will take you on a real-world journey of moving from a traditional monolithic architecture to a modern domain-driven micro-services architecture. And… we’ll kick off with a special guest keynote speaker related to the theme of this conference: SPEED! \nMeer informatie & aanmelden
URL:https://nljug.org/evenement/speed-up-cloud-seminar-rabobank/
CATEGORIES:Partner events
ATTACH;FMTTYPE=image/png:https://nljug.org/wp-content/uploads/2017/12/rabobank-2.png
END:VEVENT
BEGIN:VEVENT
DTSTART;TZID=Europe/Amsterdam:20181120T170000
DTEND;TZID=Europe/Amsterdam:20181120T203000
DTSTAMP:20260424T172006
CREATED:20181011T105611Z
LAST-MODIFIED:20181011T105623Z
UID:3673-1542733200-1542745800@nljug.org
SUMMARY:Adam Bien - Jtech
DESCRIPTION:Adam Bien komt naar Nederland! \nOver Adam Bien\nJava Champion en JavaOne Rockstar Adam Bien is een grootheid binnen de Java community. Als auteur van diverse Java boeken\, is hij een veelgevraagd spreker. Het ‘live coden’ maakt zijn talks tot een unieke ervaring! \nAgenda:\n17.00 Ontvangst met diner\n18.00 Adam Bien live coding! (part 1)\n19.00 Pauze\n19.30 Adam Bien live coding! (part 2)\n20.30 Afsluiting & drinks \nNeem jouw Java vragen mee!\nAdam gaat live coden en beantwoordt vragen uit het publiek. De sessie wordt gegeven in het Engels. \nEvent details\nDinsdag 20 november 2018\nRingwade 1\, Nieuwegein \nMeld je snel aan!\nSlechts beperkt aantal plekken beschikbaar. \nAanmelden
URL:https://nljug.org/evenement/adam-bien-jtech/
CATEGORIES:Partner events
ATTACH;FMTTYPE=image/png:https://nljug.org/wp-content/uploads/2018/10/Jtech.png
END:VEVENT
BEGIN:VEVENT
DTSTART;TZID=Europe/Amsterdam:20181121T173000
DTEND;TZID=Europe/Amsterdam:20181121T210000
DTSTAMP:20260424T172006
CREATED:20181031T122922Z
LAST-MODIFIED:20181031T122922Z
UID:3720-1542821400-1542834000@nljug.org
SUMMARY:Kotlin workshop - Quintor
DESCRIPTION:Ben je de NullPointerExceptions zat? Wil je lambda’s gebruiken\, maar je zit vast aan een oude jvm? Wil je niet tot 2022 wachten voordat je coole features op de jvm kan gebruiken? Wil je niet gebonden zijn aan Oracles licentie wijzigingen? Heb je altijd Kotlin willen leren\, maar had je nooit de tijd? Dan is dit je kans! \nIn deze workshop geven we een introductie in de wereld van Kotlin. We beginnen met een korte presentatie\, gevolgd door een serie van kleine opdrachten. Door middel van deze opdrachten verkennen we de belangrijkste aspecten van de taal en laten we zien waar men deze kan toepassen. \nProgrammeer ervaring is een pre. (Het is een introductie in Kotlin\, niet in programmeren). Er zal gebruik worden gemaakt van Intellij in combinatie met EduTools. Om mee te kunnen doen aan de workshop moet je de volgende software geïnstalleerd  hebben: \n\nIntellij 2018.2.5\nIntellij plugin: EduTools 2.0\nGradle plugin enabled\nJava JDK 1.8\n\nDe workshop wordt gegeven door David Stibbe en Ali Meshkat. \nDavid is sinds 2008 een fulltime Java ontwikkelaar. Hij beperkt zich echter niet tot Java en probeert in zijn vrije uren zoveel mogelijk bij te leren en houdt zich zodanig bezig met bijvoorbeeld Kotlin\, Scala\, Python\,C\, Ruby\, JavaScript etc. Welke taal er ook maar het beste past bij het hobby project waar hij op dat moment mee bezig is. \nAli heeft van zijn hobby zijn werk gemaakt en is zodanig sinds 2013 fulltime software ontwikkelaar\, gespecialiseerd in Java. Uiteraard beperkt hij zich niet enkel tot Java en speelt hij graag met andere talen. Na een tijd volledig met Java gewerkt te hebben kwam hij Kotlin tegen. Toen was hij verkocht. Sindsdien is hij een fervent aanhanger van deze jonge taal. \nMeer informatie en aanmelden
URL:https://nljug.org/evenement/kotlin-workshop-quintor/
CATEGORIES:Partner events
ATTACH;FMTTYPE=image/png:https://nljug.org/wp-content/uploads/2018/03/quintor.png
END:VEVENT
BEGIN:VEVENT
DTSTART;TZID=Europe/Amsterdam:20181122T173000
DTEND;TZID=Europe/Amsterdam:20181122T210000
DTSTAMP:20260424T172006
CREATED:20181106T085940Z
LAST-MODIFIED:20181106T102408Z
UID:3729-1542907800-1542920400@nljug.org
SUMMARY:Meetup: De impact Java 11 en de migratie van Java 8 naar Java 11 - CJIB ICT
DESCRIPTION:Meetup CJIB ICT\nDe impact Java 11 bij het CJIB en de migratie van Java 8 naar Java 11\n\n\n\n\n\n\n\n\nDe impact Java 11 bij het CJIB en de migratie van Java 8 naar Java 11\nDatum: 22 november 2018\nTijd: 17.30- 21:00uur\nLocatie: Auditorium CJIB\, Tesselschadestraat 55 te Leeuwarden \n  \nSinds de release van Java 9 hebben nog maar weinig organisaties de overstap gemaakt naar de meest \nrecente versie van Java. Met de release van Java 11 zou daar verandering in kunnen komen omdat \nOracle hier het label ‘Long Term Support’ aan heeft gegeven. Maar is deze aanname wel terecht? \n  \nRobert Scholte vertelt over:\nde belangrijkste wijzigingen van Java 11 \nIan Duijff vertelt over: De impact van de gewijzigde Java release train\n(iedere 6 maanden een nieuwe release) en hoe het CJIB hier mee om denkt te gaan. \n\n\n\n\n\n\n  \nRobert Scholte is voorzitter van Apache Maven\, was lid van de expert group voor JSR-376. Scholte is verantwoordelijk voor een groot deel van de implementaties in Maven plugins om het modulaire systeem te ondersteunen. Hij is een frequente spreker op conferenties als JavaOne\, Devoxx\, JavaZone en JFall. \n\n\n\n\n  \n  \n\n\n\n\n\n  \nIan Duijff is architect bij het CJIB. Hij houdt ervan om business toepassingen met nieuwe technieken te combineren en doet dat de laatste jaren vooral in omgevingen met mobile en Java applicaties. Bij het CJIB houdt hij zich o.a. bezig met het API landschap en security. Vanuit het security oogpunt ziet hij graag dat applicaties regelmatig worden bijgewerkt. \n\n\n\n\n  \nAanmelden
URL:https://nljug.org/evenement/meetup-de-impact-java-11-en-de-migratie-van-java-8-naar-java-11-cjib-ict/
CATEGORIES:Partner events
ATTACH;FMTTYPE=image/png:https://nljug.org/wp-content/uploads/2018/11/36579.w800.r800-450.6d55fbe.png
END:VEVENT
BEGIN:VEVENT
DTSTART;VALUE=DATE:20181126
DTEND;VALUE=DATE:20181127
DTSTAMP:20260424T172006
CREATED:20181026T105939Z
LAST-MODIFIED:20181026T110014Z
UID:3696-1543190400-1543276799@nljug.org
SUMMARY:Blockchain voor Developers - OVSoftware
DESCRIPTION:Openbare sessie Blockchain voor developers\n\n\nNet als voorgaande jaren geven wij ook dit jaar weer een tweetal openbare kennisdelingssessies voor developers! Collega Martin Aarnoudse zal later dit jaar een tweetal sessies over Blockchain geven\, in zowel regio Den Haag als Twente! Op maandag 26 november 2018 zal deze sessie plaatsvinden in Enschede. \n“Hoe ga je morgen als developer aan de slag met blockchain? Welke uitdagingen krijg je mee te maken en is blockchain wel de juiste oplossing? Al deze vragen worden beantwoord in de workshop “Blockchain voor developers”. Eerst een korte introductie op blockchain om weer even scherp te krijgen wat een blockchain ook alweer is. Vervolgens gaan we in een interactieve demo kijken naar een uitgewerkte use case om te zien hoe je werkt met een blockchain. Hoe je verbinding maakt\, transacties vastlegt en de transacties weer uit kunt lezen. Ook kijken we naar wat je wel en niet op moet slaan in de blockchain. Uiteraard is er genoeg ruimte om al je vragen te stellen.” \nAanmelden & Meer informatie
URL:https://nljug.org/evenement/blockchain-voor-developers-ovsoftware/
CATEGORIES:Partner events
ATTACH;FMTTYPE=image/png:https://nljug.org/wp-content/uploads/2013/04/ovsoftware-bv-2.png
END:VEVENT
BEGIN:VEVENT
DTSTART;TZID=Europe/Amsterdam:20181129T170000
DTEND;TZID=Europe/Amsterdam:20181129T210000
DTSTAMP:20260424T172006
CREATED:20181029T102941Z
LAST-MODIFIED:20181029T102941Z
UID:3704-1543510800-1543525200@nljug.org
SUMMARY:Discover why Simacan loves Scala - Simacan
DESCRIPTION:Simacan has gained much experience with JVM language Scala. It turns out Scala is very well suited to build microservices that let lots of data stream through our platform efficiently. Scala also lets us write very elegant code and it’s fun to write Scala. \nWelcome to Simacan\nIn this pizza session\, we show you what we like about Scala and why this functional language fits us so well. We use a lot of code examples doing this. The session is aimed at people that don’t know Scala yet or are just getting to know Scala. It’s a nice way to get to know Scala (better). \nWe’d love to welcome you at our office in Amersfoort. \nMeer informatie & aanmelden
URL:https://nljug.org/evenement/discover-why-simacan-loves-scala-simacan/
CATEGORIES:Partner events
ATTACH;FMTTYPE=image/png:https://nljug.org/wp-content/uploads/2018/09/Simacan_Logo-3.png
END:VEVENT
END:VCALENDAR