BEGIN:VCALENDAR
VERSION:2.0
PRODID:-//NLJUG - Nederlandse Java User Group - ECPv6.15.20//NONSGML v1.0//EN
CALSCALE:GREGORIAN
METHOD:PUBLISH
X-WR-CALNAME:NLJUG - Nederlandse Java User Group
X-ORIGINAL-URL:https://nljug.org
X-WR-CALDESC:Events for NLJUG - Nederlandse Java User Group
REFRESH-INTERVAL;VALUE=DURATION:PT1H
X-Robots-Tag:noindex
X-PUBLISHED-TTL:PT1H
BEGIN:VTIMEZONE
TZID:Europe/Amsterdam
BEGIN:DAYLIGHT
TZOFFSETFROM:+0100
TZOFFSETTO:+0200
TZNAME:CEST
DTSTART:20170326T010000
END:DAYLIGHT
BEGIN:STANDARD
TZOFFSETFROM:+0200
TZOFFSETTO:+0100
TZNAME:CET
DTSTART:20171029T010000
END:STANDARD
BEGIN:DAYLIGHT
TZOFFSETFROM:+0100
TZOFFSETTO:+0200
TZNAME:CEST
DTSTART:20180325T010000
END:DAYLIGHT
BEGIN:STANDARD
TZOFFSETFROM:+0200
TZOFFSETTO:+0100
TZNAME:CET
DTSTART:20181028T010000
END:STANDARD
BEGIN:DAYLIGHT
TZOFFSETFROM:+0100
TZOFFSETTO:+0200
TZNAME:CEST
DTSTART:20190331T010000
END:DAYLIGHT
BEGIN:STANDARD
TZOFFSETFROM:+0200
TZOFFSETTO:+0100
TZNAME:CET
DTSTART:20191027T010000
END:STANDARD
END:VTIMEZONE
BEGIN:VEVENT
DTSTART;TZID=Europe/Amsterdam:20180906T180000
DTEND;TZID=Europe/Amsterdam:20180906T210000
DTSTAMP:20260424T195959
CREATED:20180822T135032Z
LAST-MODIFIED:20180822T135032Z
UID:3514-1536256800-1536267600@nljug.org
SUMMARY:Pragmatic Event-Driven Microservices and Machine Learning with the Axon stack - AxonIQ
DESCRIPTION:The Axon Framework\, developed and supported by AxonIQ\, was originally started at Trifork Amsterdam and it is thus logical that Trifork and AxonIQ are closely related. As a joint team we are organizing a meetup on 6 September at Trifork Amsterdam. An evening full of Events will be presented by Allard Buijze (AxonIQ)\, Attila Houtkooper (Trifork) and Halleh Khoshnevis(Trifork) \nEvents are quickly rising in popularity. They are first-class citizens in many modern architectural styles\, and for good reasons. Events combine very well with microservices\, or system-of-systems architectures. However\, these event-driven systems also bring their challenges. How do you deal with the asynchronous nature of these messages? Should we really turn everything into Events. In his talk\, Allard will touch the challenges of an event-driven architecture. \nAttila and Halleh will take you into the world of Machine Learning and show how can you learn from the Events.\nThe core concept of Events stored in AxonDB enables to forecast the specific Events in the future as well as detect the anomalies in the flow of the Events. You will learn how to turn large data-sets from a domain specific structure containing valuable insights into classification and prediction. \nREGISTER HERE \n6 September 2018 @ 18:00 – 21:00\nTrifork\, Rijnsburgstraat 9\, Amsterdam
URL:https://nljug.org/evenement/pragmatic-event-driven-microservices-and-machine-learning-with-the-axon-stack-axoniq/
CATEGORIES:Partner events
ATTACH;FMTTYPE=image/jpeg:https://nljug.org/wp-content/uploads/2018/05/AxonIQ-406-x-146.jpg
END:VEVENT
BEGIN:VEVENT
DTSTART;TZID=Europe/Amsterdam:20180911T170000
DTEND;TZID=Europe/Amsterdam:20180911T210000
DTSTAMP:20260424T195959
CREATED:20180830T122923Z
LAST-MODIFIED:20180830T122923Z
UID:3557-1536685200-1536699600@nljug.org
SUMMARY:Codesmiths unite! Utrecht - Ordina
DESCRIPTION:Wat we doen\n\nDe belangrijkste kernwaarde van Ordina JTech is kennisdeling. Voor de JTech Codesmiths is dit het belangrijkste doel. Deze groep spreekt op Java en developer conferenties zoals CodeOne\, Devoxx\, JFall\, etc. Alle presentaties van 2018 komen samen in Codesmiths Unite! \nAgenda:\n17:00 – 17:30 uur: Welkom (personeelsrestaurant)\n17:30 – 18:15 uur: Eten (personeelsrestaurant)\n18:15 – 19:00 uur: Codesmith talk #1\n19:00 – 19:45 uur: Codesmith talk #2\n19:45 – 20:00 uur: Pauze\n20:00 – 20:45 uur: Codesmith talk #3 \nWe hebben drie Codesmith talks (break-out sessies met twee opties). Zie hieronder de talks van de avond: \nEclipse MicroProfile: A new standard for building Microservices? (Edwin Derks)\n“The infamous Spring Boot is one of the available frameworks for developing microservices on a cloud-based architecture. Due to its well-established community and proven concept\, there doesn’t seem to be a competitor around.\nHowever\, there is a competitor on the rise: The Eclipse MicroProfile. It provides a specification for building microservices based on Java EE.\nCan Eclipse MicroProfile compete with Spring Boot and finally allow developers to build microservices in the Java EE ecosystem? Furthermore\, will this specification be a game changer and take microservices to the next level?” \n(M)ELK is goed voor elk (Mark Hendriks)\nWe hebben het allemaal wel eens meegemaakt. Er gaat iets fout\, en jij bent de uitverkorene om bergen aan logbestanden te doorzoeken om de oorzaak te achterhalen. Dat kan natuurlijk makkelijker. Graag geef ik jullie een kijkje in de keuken van ELK (Elasticsearch\, Logstash\, Kibana)\, om dit leed te verzachten. \nOTAP is dead (Bert Koorengevel)\n“OTAP… Iedereen gebruikt het. Nog. Toch? Maar is dat wel zo vanzelfsprekend?\nAls we de OTAP-straat doorlichten\, kijken we hoe die bedoeld was en hoe die tegenwoordig door Agile DevOps teams met geautomatiseerde testen gebruikt wordt\, past de oorspronkelijke intentie dan nog wel zo goed? Stond in het Agile Manifesto niet dat alle “waste” uit ons proces moet worden geëlimineerd?” \nNativescript met VueJS & Angular (Peter Eijgermans & Rogier van Apeldoorn)\nPeter is een avontuurlijke en gepassioneerde CodeSmith in Ordina. Hij reist graag de wereld rond met zijn fiets. Altijd op zoek naar het onverwachte en onbekende. Voor zijn taak probeert hij de nieuwste technieken uit\, zoals Kotlin\, Swift\, NativeScript en React Native. Hij spreekt graag op conferenties zoals International PHP Conference\, JAX DEVOPS\, Utrecht Java User Group en Code & Comedy. In zijn vrije tijd schrijft hij technische artikelen voor het Java Magazine en DZone. Hij geeft workshops bij Ordina. Op een dag zou hij graag een Java Champion of een JavaOne Rockstar willen zijn. \nBuild webapplication with javascript without dependencies (Philippe Tjon a Hen)\nAls (Fullstack) java programmeur kan je niet meer om de javascript front end frameworks heen\, backbone\, angular\, vue.js om er maar een paar te noemen. Het ecosysteem met Node.js (npm) en allerlei frameworks daarom heen. Maar zijn deze frameworks echt nodig? Deze presentatie laat ik zien hoe je middels javascript op eenfoudige wijze ook web applicaties kan bouw \nApache Kafka – JMS on steroids? (Erik-Berndt Scheper)\nEver heard the sentence: “Kafka? Oh\, that’s like JMS on steroids”? If you are just as bored of this metaphor as I am\, then come to my session where I will look for the best quote from the writer himself\, Franz Kafka\, to see how they fare when applied to the Kafka platform. Because there’s so much more to Kafka than plain old message processing… \n 
URL:https://nljug.org/evenement/codesmiths-unite-utrecht-ordina/
CATEGORIES:Partner events
ATTACH;FMTTYPE=image/png:https://nljug.org/wp-content/uploads/2013/04/ordina-2.png
END:VEVENT
BEGIN:VEVENT
DTSTART;TZID=Europe/Amsterdam:20180920T170000
DTEND;TZID=Europe/Amsterdam:20180920T210000
DTSTAMP:20260424T195959
CREATED:20180830T123111Z
LAST-MODIFIED:20180830T123111Z
UID:3559-1537462800-1537477200@nljug.org
SUMMARY:Codesmiths unite! Eindhoven - Ordina
DESCRIPTION:Wat we doen\n\nDe belangrijkste kernwaarde van Ordina JTech is kennisdeling. Voor de JTech Codesmiths is dit het belangrijkste doel. Deze groep spreekt op Java en developer conferenties zoals JavaOne\, Devoxx\, JFall\, etc. Alle presentaties van 2018 komen samen in Codesmiths Unite! \nAgenda:\n17:00 – 17:30 uur: Welkom (personeelsrestaurant)\n17:30 – 18:15 uur: Eten (personeelsrestaurant)\n18:15 – 19:00 uur: Codesmith talk #1\n19:00 – 19:45 uur: Codesmith talk #2\n19:45 – 20:00 uur: Pauze\n20:00 – 20:45 uur: Codesmith talk #3 \nWe hebben drie Codesmith talks (break-out sessies met twee opties). Zie hieronder de talks van de avond: \nEclipse MicroProfile: A new standard for building Microservices? (Edwin Derks)\n“The infamous Spring Boot is one of the available frameworks for developing microservices on a cloud-based architecture. Due to its well-established community and proven concept\, there doesn’t seem to be a competitor around.\nHowever\, there is a competitor on the rise: The Eclipse MicroProfile. It provides a specification for building microservices based on Java EE.\nCan Eclipse MicroProfile compete with Spring Boot and finally allow developers to build microservices in the Java EE ecosystem? Furthermore\, will this specification be a game changer and take microservices to the next level?” \n(M)ELK is goed voor elk (Mark Hendriks)\nWe hebben het allemaal wel eens meegemaakt. Er gaat iets fout\, en jij bent de uitverkorene om bergen aan logbestanden te doorzoeken om de oorzaak te achterhalen. Dat kan natuurlijk makkelijker. Graag geef ik jullie een kijkje in de keuken van ELK (Elasticsearch\, Logstash\, Kibana)\, om dit leed te verzachten. \nFlutter.io (Rogier van Apeldoorn)\nRogier heeft voor Rabobank de RaboWallet gebouwd. In zijn vrije tijd heeft Rogier samen met zijn vrouw en kinderen 1 van de beste Nederlandse educatieve apps gebouwd. In deze talk geeft Rogier uitleg over het nieuwe Google platform Flutter.io\, waarmee m.b.v. de programmeertaal Dart\, een native app kan worden gebouwd voor Android en IOS. \nOTAP is dead (Bert Koorengevel)\n“OTAP… Iedereen gebruikt het. Nog. Toch? Maar is dat wel zo vanzelfsprekend?\nAls we de OTAP-straat doorlichten\, kijken we hoe die bedoeld was en hoe die tegenwoordig door Agile DevOps teams met geautomatiseerde testen gebruikt wordt\, past de oorspronkelijke intentie dan nog wel zo goed? Stond in het Agile Manifesto niet dat alle “waste” uit ons proces moet worden geëlimineerd?” \nNativescript met VueJS & Angular (Peter Eijgermans & Rogier van Apeldoorn)\nPeter is een avontuurlijke en gepassioneerde CodeSmith in Ordina. Hij reist graag de wereld rond met zijn fiets. Altijd op zoek naar het onverwachte en onbekende. Voor zijn taak probeert hij de nieuwste technieken uit\, zoals Kotlin\, Swift\, NativeScript en React Native. Hij spreekt graag op conferenties zoals International PHP Conference\, JAX DEVOPS\, Utrecht Java User Group en Code & Comedy. In zijn vrije tijd schrijft hij technische artikelen voor het Java Magazine en DZone. Hij geeft workshops bij Ordina. Op een dag zou hij graag een Java Champion of een JavaOne Rockstar willen zijn. \nApache Kafka – JMS on steroids? (Erik-Berndt Scheper)\nEver heard the sentence: “Kafka? Oh\, that’s like JMS on steroids”? If you are just as bored of this metaphor as I am\, then come to my session where I will look for the best quote from the writer himself\, Franz Kafka\, to see how they fare when applied to the Kafka platform. Because there’s so much more to Kafka than plain old message processing…
URL:https://nljug.org/evenement/codesmiths-unite-eindhoven-ordina/
CATEGORIES:Partner events
ATTACH;FMTTYPE=image/png:https://nljug.org/wp-content/uploads/2013/04/ordina-2.png
END:VEVENT
BEGIN:VEVENT
DTSTART;TZID=Europe/Amsterdam:20180921T090000
DTEND;TZID=Europe/Amsterdam:20180921T173000
DTSTAMP:20260424T195959
CREATED:20180514T124213Z
LAST-MODIFIED:20180514T124213Z
UID:3152-1537520400-1537551000@nljug.org
SUMMARY:Event-Driven Microservices Conference - AxonIQ
DESCRIPTION:DESCRIPTION\n\n\n\nConference is full of practical presentations\, highly-rated workshops at very affordable price. This will help you to level up your knowledge about: \nEvent-driven thinking in design\, architecture\, technology and organization \nProgram \n\nLoving Events through Chaos by Russ Miles (ChaosIQ)\nAxon Vison and Roadmap by Allard Buijze (AxonIQ)\nProjects with Axon Framework – best practices\nUnconference where you can exchange information\nPanel discussion with industry experts\nspeakers will be announced soon\n\nWorkshops \n\nFun with Event Storming and advanced Domain-Driven Design by Mathias Verraes and Alberto Brandolini\nFull stack product suite by AxonIQ by Allard Buijze\nWe’re going to do Chaos Engineering with Russ Miles\n\nBlind bird pricing for conference tickets expires at midnight CET on March 15th. \nWe promise an excellent program so make sure you use this hefty discount. \n\nIn meantime you can see our video archives of AxonIQ Conference 2017\, available at: \nhttps://www.youtube.com/channel/UCQb0g7zJCWrzkpxznSUkERw
URL:https://nljug.org/evenement/event-driven-microservices-conference-axoniq/
CATEGORIES:Partner events
ATTACH;FMTTYPE=image/jpeg:https://nljug.org/wp-content/uploads/2018/05/AxonIQ-406-x-146.jpg
END:VEVENT
BEGIN:VEVENT
DTSTART;VALUE=DATE:20180925
DTEND;VALUE=DATE:20180926
DTSTAMP:20260424T195959
CREATED:20180301T133750Z
LAST-MODIFIED:20180301T133750Z
UID:2524-1537833600-1537919999@nljug.org
SUMMARY:BPMN 2.0 Training - Camunda
DESCRIPTION:Learn BPMN 2.0 for real! We show you how to successfully use BPMN\, independent from specific software tools. As a member of the OMG\, we are directly involved in the development of the BPMN standard and thus offer you first hand background information. We have used BPMN in numerous projects and are able to demonstrate its strengths and weaknesses based on our experience. Our methodological BPMN framework focuses on a better business-IT alignment and is a practical guide for your daily project work. \nMeer informatie & aanmelden
URL:https://nljug.org/evenement/bpmn-2-0-training-camunda/
CATEGORIES:Partner events
ATTACH;FMTTYPE=image/png:https://nljug.org/wp-content/uploads/2018/03/download.png
END:VEVENT
BEGIN:VEVENT
DTSTART;TZID=Europe/Amsterdam:20180925T170000
DTEND;TZID=Europe/Amsterdam:20180925T210000
DTSTAMP:20260424T195959
CREATED:20180830T123215Z
LAST-MODIFIED:20180830T123215Z
UID:3561-1537894800-1537909200@nljug.org
SUMMARY:Codesmiths unite! Groningen - Ordina
DESCRIPTION:Wat we doen\n\nDe belangrijkste kernwaarde van Ordina JTech is kennisdeling. Voor de JTech Codesmiths is dit het belangrijkste doel. Deze groep spreekt op Java en developer conferenties zoals JavaOne\, Devoxx\, JFall\, etc. Alle presentaties van 2018 komen samen in Codesmiths Unite! \nAgenda:\n17:00 – 17:30 uur: Welkom (personeelsrestaurant)\n17:30 – 18:15 uur: Eten (personeelsrestaurant)\n18:15 – 19:00 uur: Codesmith talk #1\n19:00 – 19:45 uur: Codesmith talk #2\n19:45 – 20:00 uur: Pauze\n20:00 – 20:45 uur: Codesmith talk #3 \nOp dit moment is de conferentie aangekondigd. De details van de talks worden snel bekend gemaakt. Geef je dus vandaag alvast op en hou deze pagina goed in de gaten!
URL:https://nljug.org/evenement/codesmiths-unite-groningen-ordina/
CATEGORIES:Partner events
ATTACH;FMTTYPE=image/png:https://nljug.org/wp-content/uploads/2013/04/ordina-2.png
END:VEVENT
BEGIN:VEVENT
DTSTART;TZID=Europe/Amsterdam:20180927T173000
DTEND;TZID=Europe/Amsterdam:20180927T210000
DTSTAMP:20260424T195959
CREATED:20180917T140905Z
LAST-MODIFIED:20180917T140952Z
UID:3622-1538069400-1538082000@nljug.org
SUMMARY:Meetup progressive webapps\, libraries en AI in de frontend- Malmberg
DESCRIPTION:Malmberg\, a Sanoma Company\, nodigt je graag uit voor een interessante en leerzame\nmeetup voor iedereen die interesse heeft in frontend development. Tijdens deze\nbijeenkomst laten ervaren ontwikkelaars zien hoe je een zelflerend spel maakt. Ook\nvertellen zij over progressive webapps en het onderhouden van een eigen (frontend) library.\nWe verwelkomen je graag met een hapje en een drankje bij de Malmberg Meetup op\ndonderdag 27 september 2018. Heb je interesse? Meld je dan snel aan! \n17.30 – 18:00 Inloop en eten\n18.00 – 18:15 Introductie door Robert-Jan Noordegraaf\n18.15 – 18:45 ‘Progressive Web Apps: what\, why and how?’ door Dirk Luijk\n18.45 – 19.15 ‘Maintaining your own (frontend) library’ door Dirk Luijk\n19:15 – 19:30 Pauze\n19:30 – 20:30 ‘Birds with brains’ door Bjørn Wikkeling\n20:30 – 21:00 Napraten en borrel \nDonderdag 27 september 2018\nKantoor Malmberg\, eerste verdieping\nMagistratenlaan 138\, 5223 MB Den Bosch \nHet kantoor van Malmberg ligt op vijf minuten lopen van Station ‘s-Hertogenbosch. Kom je\nmet de auto\, dan zijn er voldoende parkeerplaatsen op het parkeerterrein voor het kantoor\nen in Parkeergarage Paleiskwartier aan de Hugo de Grootlaan achter het kantoor. \n  \n Progressive Web Apps: what\, why and how?\nIn deze sessie neemt Dirk je mee in één van de belangrijkste trends op het gebied van\nfrontend-ontwikkeling\, namelijk webapps. Hij staat onder andere stil bij de ontwikkeling van\nwebapps van vroeger tot nu en het verschil tussen native apps en web based apps.\nDaarnaast legt hij uit wat progressive webapps\, app shells en app manifest zijn. Ook gaat hij\nin op service workers\, caching-stragieën en dev tools. \nMaintaining your (frontend) library\, Dirk Luijk\nIn de tweede sessie belicht Dirk aspecten die een rol spelen bij het onderhouden van een\nlibrary. Denk hierbij aan versionering\, releasestrategieën\, naamgeving\, opensourcelicenties\nen het bijdragen aan een library.\nDirk Luijk is een jonge\, ambitieuze programmeur en softwarearchitect\nmet ervaring in frontend (Angular\, Typescript\, SASS)\nen backend development. Hij heeft veel ervaring met\nverschillende technieken en weet veel over diverse tooling.\nDirk is een flexibele teamspeler en altijd gretig om nieuwe\ntechnieken te leren. Momenteel werkt hij als Angular-specialist\nbij Craftsmen en deelt hij zijn kennis via blogs\, YouTube-video’s\nen kennissessies. \nBirds with Brains\, Bjørn Wikkeling\nWie denkt dat eenvoudige games niet interessant zijn\, heeft het mis. Door middel van\ninteractief live coding laat Bjørn zijn publiek zien hoe hij een JavaScript-game met canvas\nvanaf de basis maakt. Bjørn voorziet zijn spel hierbij van kunstmatige intelligentie\, zodat het\nzichzelf leert te spelen.\nBjørn Wikkeling heeft bijna twintig jaar professionele ervaring\nin software-ontwikkeling. Hij heeft in die tijd meerdere rollen\nvervult\, waaronder software-ontwikkelaar en -architect. Bjørn\nspecialiseert zich momenteel met name in JavaScript en overige\nfrontend-technieken. \nAanmelden
URL:https://nljug.org/evenement/meetup-progressive-webapps-libraries-en-ai-in-de-frontend-malmberg/
CATEGORIES:Partner events
ATTACH;FMTTYPE=image/jpeg:https://nljug.org/wp-content/uploads/2018/04/malmberg1.jpg
END:VEVENT
BEGIN:VEVENT
DTSTART;TZID=Europe/Amsterdam:20180929T090000
DTEND;TZID=Europe/Amsterdam:20180929T170000
DTSTAMP:20260424T195959
CREATED:20180814T125000Z
LAST-MODIFIED:20180814T125000Z
UID:3492-1538211600-1538240400@nljug.org
SUMMARY:NextBuild 2018
DESCRIPTION:The NextBuild Conference is intended for developers/architects who are passionate about software development and want to learn\, meet and share. \nWhy should you attend?\nIf you are interested in learning new technology\, meeting your peers and having lots of fun then you should visit NextBuild! A place where you can learn in an informal environment on variety of topics. \nWhat to expect?\nAngularJS\, Ember.js\, Docker\, Clojure\, Java\, Groovy\, Vagrant\, Scala/Akka\, Spring Boot\, ReactJS\, Go\, CQRS\, Grails\, Ux\, Play\, Rails\, Rapid Testing\, Continuous Integration and Deployment\, Modelling\, Artificial Intelligence and many many more you can think of….!!! \nHow much does it cost?\nDid we mention that it is totally free! \nMore information\nAanmelden
URL:https://nljug.org/evenement/nextbuild-2018/
LOCATION:HighTech Campus Eindhoven
CATEGORIES:Partner events
ATTACH;FMTTYPE=image/jpeg:https://nljug.org/wp-content/uploads/2018/08/nextbuild-final-vector.jpg
END:VEVENT
END:VCALENDAR