BEGIN:VCALENDAR
VERSION:2.0
PRODID:-//NLJUG - Nederlandse Java User Group - ECPv6.15.20//NONSGML v1.0//EN
CALSCALE:GREGORIAN
METHOD:PUBLISH
X-ORIGINAL-URL:https://nljug.org
X-WR-CALDESC:Events for NLJUG - Nederlandse Java User Group
REFRESH-INTERVAL;VALUE=DURATION:PT1H
X-Robots-Tag:noindex
X-PUBLISHED-TTL:PT1H
BEGIN:VTIMEZONE
TZID:Europe/Amsterdam
BEGIN:DAYLIGHT
TZOFFSETFROM:+0100
TZOFFSETTO:+0200
TZNAME:CEST
DTSTART:20170326T010000
END:DAYLIGHT
BEGIN:STANDARD
TZOFFSETFROM:+0200
TZOFFSETTO:+0100
TZNAME:CET
DTSTART:20171029T010000
END:STANDARD
BEGIN:DAYLIGHT
TZOFFSETFROM:+0100
TZOFFSETTO:+0200
TZNAME:CEST
DTSTART:20180325T010000
END:DAYLIGHT
BEGIN:STANDARD
TZOFFSETFROM:+0200
TZOFFSETTO:+0100
TZNAME:CET
DTSTART:20181028T010000
END:STANDARD
BEGIN:DAYLIGHT
TZOFFSETFROM:+0100
TZOFFSETTO:+0200
TZNAME:CEST
DTSTART:20190331T010000
END:DAYLIGHT
BEGIN:STANDARD
TZOFFSETFROM:+0200
TZOFFSETTO:+0100
TZNAME:CET
DTSTART:20191027T010000
END:STANDARD
END:VTIMEZONE
BEGIN:VEVENT
DTSTART;TZID=Europe/Amsterdam:20180829T170000
DTEND;TZID=Europe/Amsterdam:20180829T213000
DTSTAMP:20260424T212822
CREATED:20180814T120750Z
LAST-MODIFIED:20180814T120750Z
UID:3489-1535562000-1535578200@nljug.org
SUMMARY:StaQ night - ElasticSearch hands-on - Quintor
DESCRIPTION:Als ontwikkelaar ben je de laatste jaren vast wel eens in aanraking gekomen met tooling van Elastic. Quintor wil je graag meenemen in deze technologie\, en je hands-on laten ervaren wat je hier als ontwikkelaar van zou moeten weten.\nTijdens deze workshop gaan we met de pet van ontwikkelaar kijken naar de Elastic Stack. Om precies te zijn naar ElasticSearch zelf en een klein beetje naar Kibana. We zullen aan de hand van een aantal datasets gaan kijken hoe je het beste gegevens uit ElasticSearch kan halen.\nDaarna zullen we dieper ingaan op het dataschema van ElasticSearch\, en de volgende vraag beantwoorden: Hoe kun je zo efficiënt mogelijk de data opslaan?Waarna we gaan kijken hoe je live data migratie kan doen naar een nieuw schema. \nTijdens deze sessie heb je in ieder geval een Java versie van 1.8.0_131 of hoger nodig. \nProgramma:\n\n17:00 uur Ontvangst\n17:30 uur Introductie + installatie\n18:00 uur Warme maaltijd\n19:00 uur Hands-on sessie ElasticSearch\n21:15 uur Drinks\n\nDe avond vindt plaats bij Quintor Amersfoort. Er is rondom het pand voldoende (gratis) parkeergelegenheid. Aanmelden kan via onderstaande link.\n\nAanmelden
URL:https://nljug.org/evenement/staq-night-elasticsearch-hands-on-quintor/
CATEGORIES:Partner events
ATTACH;FMTTYPE=image/png:https://nljug.org/wp-content/uploads/2018/03/quintor.png
END:VEVENT
BEGIN:VEVENT
DTSTART;TZID=Europe/Amsterdam:20180830T160000
DTEND;TZID=Europe/Amsterdam:20180830T170000
DTSTAMP:20260424T212822
CREATED:20180719T083828Z
LAST-MODIFIED:20180719T083828Z
UID:3429-1535644800-1535648400@nljug.org
SUMMARY:Webinar: Evolving smoothly to Event-Driven Microservices using the Axon stack
DESCRIPTION:Presented by Allard Buijze \nWhile the ability to combine the power of Event-driven systems with Microservices sounds appealing\, there are many pitfalls and difficulties to overcome. At AxonIQ\, we believe in an evolutionary approach to microservices\, starting from a structured monolith. \nIn this webinar\, we will elaborate on this approach\, looking at the necessary ingredients to build a structured monolith. We’ll look at which ingredients are made available out-of-the-box by Axon\, and which ingredients are part of the application-specific code \nYou will learn:\n– how Axon helps build structured monoliths\n– how to ensure location transparency throughout the entire system\n– how to evolve a monolith into event-driven (micro)services\n– which role each of the Axon components plays in the architecture
URL:https://nljug.org/evenement/webinar-evolving-smoothly-to-event-driven-microservices-using-the-axon-stack/
CATEGORIES:Partner events
ATTACH;FMTTYPE=image/png:https://nljug.org/wp-content/uploads/2017/09/axoniq-2.png
END:VEVENT
END:VCALENDAR