BEGIN:VCALENDAR
VERSION:2.0
PRODID:-//NLJUG - Nederlandse Java User Group - ECPv6.15.20//NONSGML v1.0//EN
CALSCALE:GREGORIAN
METHOD:PUBLISH
X-WR-CALNAME:NLJUG - Nederlandse Java User Group
X-ORIGINAL-URL:https://nljug.org
X-WR-CALDESC:Events for NLJUG - Nederlandse Java User Group
REFRESH-INTERVAL;VALUE=DURATION:PT1H
X-Robots-Tag:noindex
X-PUBLISHED-TTL:PT1H
BEGIN:VTIMEZONE
TZID:Europe/Amsterdam
BEGIN:DAYLIGHT
TZOFFSETFROM:+0100
TZOFFSETTO:+0200
TZNAME:CEST
DTSTART:20170326T010000
END:DAYLIGHT
BEGIN:STANDARD
TZOFFSETFROM:+0200
TZOFFSETTO:+0100
TZNAME:CET
DTSTART:20171029T010000
END:STANDARD
BEGIN:DAYLIGHT
TZOFFSETFROM:+0100
TZOFFSETTO:+0200
TZNAME:CEST
DTSTART:20180325T010000
END:DAYLIGHT
BEGIN:STANDARD
TZOFFSETFROM:+0200
TZOFFSETTO:+0100
TZNAME:CET
DTSTART:20181028T010000
END:STANDARD
BEGIN:DAYLIGHT
TZOFFSETFROM:+0100
TZOFFSETTO:+0200
TZNAME:CEST
DTSTART:20190331T010000
END:DAYLIGHT
BEGIN:STANDARD
TZOFFSETFROM:+0200
TZOFFSETTO:+0100
TZNAME:CET
DTSTART:20191027T010000
END:STANDARD
END:VTIMEZONE
BEGIN:VEVENT
DTSTART;TZID=Europe/Amsterdam:20180607T160000
DTEND;TZID=Europe/Amsterdam:20180607T170000
DTSTAMP:20260425T002822
CREATED:20180604T110717Z
LAST-MODIFIED:20180604T110717Z
UID:3191-1528387200-1528390800@nljug.org
SUMMARY:Microservices with Axon platform - live coding webinar
DESCRIPTION:This will be a webinar without slides – just live coding. You’ll see how easy it is to build an application with Axon Framework and split it into microservices when the time is right. \nWe’ll begin by building a small\, Axon Framework based monolithic Java application from scratch\, running it on a local machine. Then\, we’ll take it apart into 3 microservices\, and deploy several copies of each of  these services on a Kubernetes cluster. The entire process will be completed in the 45 minutes of this webinar! To get the most out of this webinar\, it’s useful to have a basic understanding of CQRS and Event Sourcing as we won’t cover that theory before going into coding.  \nTechnologies used: Axon Framework 3.2\, AxonHub\, AxonDB\, Spring\, Spring Boot\, Kubernetes\, Google Cloud Platform\, Lombok\, Vaadin\, JPA.
URL:https://nljug.org/evenement/microservices-with-axon-platform-live-coding-webinar/
CATEGORIES:Partner events
ATTACH;FMTTYPE=image/png:https://nljug.org/wp-content/uploads/2017/09/axoniq-2.png
END:VEVENT
BEGIN:VEVENT
DTSTART;TZID=Europe/Amsterdam:20180607T173000
DTEND;TZID=Europe/Amsterdam:20180607T210000
DTSTAMP:20260425T002822
CREATED:20180517T142010Z
LAST-MODIFIED:20180517T142242Z
UID:3181-1528392600-1528405200@nljug.org
SUMMARY:Building microservices with Vert.x  &  Building a self-driving RC car
DESCRIPTION:Malmberg\, a Sanoma Company\, nodigt je graag uit voor een gezamenlijke meetup met één van haar preferred partners Jpoint. Onderwerpen van de meetup zijn: microservices ontwikkelen met Vert.x en ontwikkelen van zelfrijdende radiografisch bestuurbare auto’s \nRESERVEER MIJN STOEL \n17.30h – 18:00h – Inloop + eten \n18.00h – 18:15h – Korte introductie Thijs Willems (CTO Malmberg) \n18.15h – 19:15h – Bert Jan Schrijver (Building microservices with Vert.X) \n19.15h – 19:30h – Korte break \n19.30h – 20:30h – Tim van Eijndhoven (Building a self-driving RC car) \n20.30h – 21:00h – Borrel \n21.00h – Einde \nMalmberg kantoor \nMagistratenlaan 138 \nDen-Bosch \nHet kantoor van Malmberg\, a Sanoma Company\, ligt op 5 minuten lopen van het centraal station van Den-Bosch. Kom je met de auto dan biedt de parkeergarage Het Paleiskwartier\, gelegen vlak achter het kantoor\, voldoende mogelijkheden voor parkeren. \n  \nBuilding microservices with Vert.x \nVert.x is een toolkit om reactive applicaties op de JVM te bouwen. Bij de JAX Innovation awards won het de prijs voor “Most Innovative Java Technology”. Vert.x is event driven\, non blocking en polyglot\, wat het een platform maakt dat bij uitstek geschikt is voor het bouwen van microservices. In deze sessie deel ik de ervaringen en use cases voor Vert.x bij Malmberg\, waar we 4 jaar geleden begonnen zijn met het bouwen van reactive web applicaties met Vert.x. \nJe leert de onderliggende concepten van Vert.x\, waarom we voor Vert.x gekozen hebben\, hoe we het gebruiken en de uitdagingen die we zijn tegengekomen. Onderwerpen zijn onder andere de structuur van onze projecten\, (micro)services architectuur\, het deployment model in combinatie met DevOps\, schaalbaarheid\, de upgrade van Vert.x versie 2 naar Vert.x versie 3 en de samenwerking met het ontwikkelteam van Vert.x. \nNa deze sessie weet je genoeg van Vert.x om gelijk zelf aan de slag te kunnen gaan! \nSpreker: Bert Jan Schrijver \nBert Jan is Software Craftsman bij JPoint en CTO bij OpenValue. Hij focust op Java\, Continuous Delivery en DevOps. Bert Jan is een Java Champion\, Developer Champion\, JavaOne Rock Star spreker en is bestuurslid bij NLJUG\, de Nederlandse Java User Group. Hij vindt het leuk om zijn ervaring te delen door te spreken op conferenties\, te schrijven voor Java magazine en via Devoxx4Kids kinderen te leren programmeren. Bert Jan is gemakkelijk te bereiken op Twitter via @bjschrijver. \n  \nBuilding a self-driving RC car \nDeze sessie deelt mijn ervaringen met het ombouwen van een kleine\, op afstand bestuurbare auto in een autonoom rijdend voertuig. Ik vertel over electronica\, sensoren\, AI\, computer vision en natuurlijk over de software die alles met elkaar verbindt. \nIk neem je mee in de wereld van zelfrijdende auto’s en vergelijk mijn oplossing met het werk dat verzet wordt door de grote jongens zoals Tesla’s ‘autopilot’ en Waymo’s zelf-rijdende auto’s. Ik leg de uitdagingen uit waar je mee te maken krijgt en de dilemma’s die opkomen als je een auto in de echte wereld door software laat besturen. \nSpreker: Tim van Eijndhoven \nTim is Software Craftsman bij JPoint met interesse in alles wat met software development te maken heeft. Hij houdt zich vooral bezig met Java\, software architectuur\, security en open source. Tim vindt het leuk om zijn kennis en ervaring te delen met collega-developers door artikelen te schrijven en te spreken op conferenties. Hij probeert de volgende generaties developers te inspireren door ze te leren programmeren op events zoals Devoxx4Kids. \n 
URL:https://nljug.org/evenement/building-microservices-with-vert-x-building-a-self-driving-rc-car/
CATEGORIES:Partner events
ATTACH;FMTTYPE=image/jpeg:https://nljug.org/wp-content/uploads/2018/04/malmberg1.jpg
END:VEVENT
BEGIN:VEVENT
DTSTART;TZID=Europe/Amsterdam:20180613T123000
DTEND;TZID=Europe/Amsterdam:20180613T170000
DTSTAMP:20260425T002822
CREATED:20180516T085721Z
LAST-MODIFIED:20180516T085742Z
UID:3159-1528893000-1528909200@nljug.org
SUMMARY:IBM speaks at Rabobank: Java & Artificial Intelligence
DESCRIPTION:DESCRIPTION\nDear Java developer\, \nWe would like to invite you to our newest conference\, where 2 IBM speakers and 1 Rabobank speaker will talk about A.I. and Java. Below you’ll find a schedule and the topics to be discussed! \nAs we have a lot of room and we like to share\, we have reserved 150 seats for Java developers outside of Rabobank. We hope this promotes discussion and knowledge sharing. So please feel free to sign up. \nSchedule \n12.30 walk-in\n13.00 Opening by Pascalle Thoma (Domain Manager Distribution & Executive Vice President at Rabobank)\n13.15 Gerard Smit: Providing business value with AI and Java\n14.00 Edward Ciggaar: How to include Watson into your Java application\n14.45 Break time!\n15.15 Jan Veldsink: The art of A.I.\n16.00 Panel discussion\n16.30 Drinks! \nBelow you’ll find bio’s and abstracts of the speakers: \nGerard Smit \nGerard Smit is IBM´s Chief Technology Officer and Technical Sales Executive for Belgium\, The Netherlands and Luxembourg. He also leads the IBM Center for Advanced Studies and University Relations Team. Gerard is awarded as IBM Distinguished Engineer\, in recognition and appreciation of outstanding international technical contributions and leadership. He is an Open Group Distinguished Chief Architect\, \nReverse Historian and passionate Technology & Innovation leader. Gerard connects the contextual dots between the industry and Cognitive Computing\, Artificial Intelligence\, Internet of Things\, Big Data & Analytics & Front Office Digitization. \nAbstract: Providing business value with AI and Java\n \nDuring this session Gerard will give insights into IBM’s Artificial Intelligence strategy and technology delivered through Watson products and services. He will share ideas and use cases where Watson technology was used in business initiatives and delivered substantial value to the business. Gerard will also cover on a high level which Watson services are available to be called from Java applications. \nEdward Ciggaar \nEdward works as developer advocate for the IBM Innovation Space in Amsterdam. His passion is to personally interact with developers and to show them the possibilities of our latest technology. He is always in to build fun demos and sample code that support developer productivity. His focus areas are IBM Cloud\, the Watson APIs and blockchain. In his spare time Edward loves to play soccer\, both in real-life as well as online. \nAbstract \nIn the second part of the session Edward will go into more detail on how exactly to include these Watson services into your Java application. By live coding he will show how to start building your Java app from scratch\, then how to enrich this app by invoking Watson services and finally how to deploy the application to the cloud using CI/CD. \nJan Veldsink \nWorking with AI since the last AI winter. At his work with some of the large banks in the Netherlands he applies AI within different Compliance and Fraud related topics.\nHis expertise areas are Artificial Intelligence\, Cyber security\, Systems thinking\, Serious gaming and Innovation. \nJan is Lead Artificial Intelligence and Cognitive Technologies within Global Compliance Surveillance & Integrity Investigations of the Rabobank.\nJan is Core Teacher of the module AI and Cyber\, one of the Modular Executive MBA in Business & IT program at Nyenrode. \nAbstract: The art of A.I. \nArtificial Intelligence (AI) seems to be reaching mythical propotions. You cannot open a blog of news article on new developments and AI is integral part of the text. But what is it? Can we use it? How does it relate to the work of programming? \nIn his talk “Art of AI” Jan Veldsink MSc will attempt to demystify Artificial intelligence and give examples and cases where AI is being applied within the Rabobank.
URL:https://nljug.org/evenement/ibm-speaks-at-rabobank-java-artificial-intelligence/
CATEGORIES:Partner events
ATTACH;FMTTYPE=image/png:https://nljug.org/wp-content/uploads/2017/12/rabobank-2.png
END:VEVENT
BEGIN:VEVENT
DTSTART;TZID=Europe/Amsterdam:20180618T170000
DTEND;TZID=Europe/Amsterdam:20180618T220000
DTSTAMP:20260425T002822
CREATED:20180604T110449Z
LAST-MODIFIED:20180614T082827Z
UID:3189-1529341200-1529359200@nljug.org
SUMMARY:Monolith to Microservices - Conspect
DESCRIPTION:Onder het mom van wie niet kan delen kan ook niet vermenigvuldigen willen wij jullie graag uitnodigen bij ons voor een kennisdeling met Michael Nygard over de transformatie van een ‘monolith’ naar ‘microservices’. \nHoe komen we van een monolithische applicatie naar een cloud-ready\, Microservices architectuur? In 90 minuten neemt Michael ons mee in de best practices\, do’s en don’ts\, lessons learned en weet je wat je gaat afsplitsen van je applicatie. \nProgramma\n\n\n\nDatum:\nmaandag 18 juni 2018\n\n\nLocatie:\nConspect ICT\, Transistorstraat 71J\, 1322 CK Almere\n\n\nTijd:\n18:00-19:00 Inloop met een hapje en drankje\n\n\n\n19:00-21:00 Plenaire presentatie\n\n\n\n21:00-22:00 Na praten onder het genot van een drankje\n\n\n\nAanmelden kan door een email te sturen naar javaevents@conspect.nl. Het aantal plaatsen is beperkt tot 50! Wie het eerst komt die het eerst maalt! Vol=Vol. \nDeze presentatie wordt jullie geheel kosteloos aangeboden door Conspect ICT\, dus gratis entree! Onze passie is ICT en dit willen we graag met jullie delen. Leuk maakt alles beter!
URL:https://nljug.org/evenement/monolith-to-microservices/
CATEGORIES:Partner events
ATTACH;FMTTYPE=image/jpeg:https://nljug.org/wp-content/uploads/2013/04/CON-Logo-zwgeel-met.jpg
END:VEVENT
BEGIN:VEVENT
DTSTART;TZID=Europe/Amsterdam:20180628T153000
DTEND;TZID=Europe/Amsterdam:20180628T161500
DTSTAMP:20260425T002822
CREATED:20180614T082801Z
LAST-MODIFIED:20180614T083110Z
UID:3219-1530199800-1530202500@nljug.org
SUMMARY:Webinar: What's new in Java 9 & 10 - Vijfhart
DESCRIPTION:Meld je nu aan voor het webinar.  \nSinds september vorig jaar (2017)  is er Java 9. Na één keer met de ogen knipperen is er sinds maart van dit jaar (18.3) Java 10. Sterker nog bij het installeren van de Java 9 SDK krijg je vriendelijk het verzoek versie 10 te installeren. En als alles mee zit verschijnt versie 11 (of 18.9) september dit jaar. De ontwikkelingen gaan dus snel. \nDaarom organiseert Vijfhart op donderdag 28 juni het webinar: “What’s new in Java 9 & 10”. In dit webinar neemt Jeroen de Wolf de nieuwe functionaliteit die vanaf Java 9 beschikbaar is onder de loep. Jeroen is Java trainer bij Vijfhart en deelt zijn kennis graag met jou. \nIn dit webinar bespreekt Jeroen onder andere de belangrijke nieuwe functionaliteit: Java Platform Module System (JPMS). Kort samengevat\, je hoeft niet meer de hele JRE te gebruiken voor je applicatie\, alleen de libraries die nodig zijn.  Daarnaast vertelt Jeroen meer over het nieuwe release beleid van Oracle voor Java SE en wat de gevolgen zijn. Als afsluiter geeft hij je een kijkje in de toekomst van de Java Virtual Machine\, op dat vlak zitten er een aantal grote veranderingen aan te komen. \nDe duur van het webinar is ca. 45 minuten en start om 15.30 uur. \nMeld je nu aan! \nLees ook het laatste blog van Jeroen de Wolf.
URL:https://nljug.org/evenement/webinar-whats-new-in-java-9-10-vijfhart/
CATEGORIES:Partner events
ATTACH;FMTTYPE=image/png:https://nljug.org/wp-content/uploads/2017/06/vijfhart-2.png
END:VEVENT
END:VCALENDAR