BEGIN:VCALENDAR
VERSION:2.0
PRODID:-//NLJUG - Nederlandse Java User Group - ECPv6.15.20//NONSGML v1.0//EN
CALSCALE:GREGORIAN
METHOD:PUBLISH
X-WR-CALNAME:NLJUG - Nederlandse Java User Group
X-ORIGINAL-URL:https://nljug.org
X-WR-CALDESC:Events for NLJUG - Nederlandse Java User Group
REFRESH-INTERVAL;VALUE=DURATION:PT1H
X-Robots-Tag:noindex
X-PUBLISHED-TTL:PT1H
BEGIN:VTIMEZONE
TZID:Europe/Amsterdam
BEGIN:DAYLIGHT
TZOFFSETFROM:+0100
TZOFFSETTO:+0200
TZNAME:CEST
DTSTART:20170326T010000
END:DAYLIGHT
BEGIN:STANDARD
TZOFFSETFROM:+0200
TZOFFSETTO:+0100
TZNAME:CET
DTSTART:20171029T010000
END:STANDARD
BEGIN:DAYLIGHT
TZOFFSETFROM:+0100
TZOFFSETTO:+0200
TZNAME:CEST
DTSTART:20180325T010000
END:DAYLIGHT
BEGIN:STANDARD
TZOFFSETFROM:+0200
TZOFFSETTO:+0100
TZNAME:CET
DTSTART:20181028T010000
END:STANDARD
BEGIN:DAYLIGHT
TZOFFSETFROM:+0100
TZOFFSETTO:+0200
TZNAME:CEST
DTSTART:20190331T010000
END:DAYLIGHT
BEGIN:STANDARD
TZOFFSETFROM:+0200
TZOFFSETTO:+0100
TZNAME:CET
DTSTART:20191027T010000
END:STANDARD
END:VTIMEZONE
BEGIN:VEVENT
DTSTART;VALUE=DATE:20180410
DTEND;VALUE=DATE:20180411
DTSTAMP:20260425T033827
CREATED:20180227T132636Z
LAST-MODIFIED:20180227T132755Z
UID:2499-1523318400-1523404799@nljug.org
SUMMARY:Innovatos Plaza 2018 - Atos (Groningen)
DESCRIPTION:Join us at our innovative and network event and we will show you the latest technology and innovations: Artificial Intelligence\, smart things\, robotics\, augmented reality and a diversity of other technologies we already use in our daily life and which are rapidly taking over all the old ways of working. Our experts will be available at a stand and will throughout the evening present continuous sessions\, breakouts and workshops. All our experts are looking forward on meeting you and showing you their innovations and projects about data analytics\, blockchain\, security\, hybrid cloud\, low coding platforms\, SAP/HANA and much more. \nMeer informatie & aanmelden
URL:https://nljug.org/evenement/innovatos-plaza-2018-atos-groningen/
CATEGORIES:Partner events
ATTACH;FMTTYPE=image/jpeg:https://nljug.org/wp-content/uploads/2018/02/Atos.jpg
END:VEVENT
BEGIN:VEVENT
DTSTART;TZID=Europe/Amsterdam:20180410T173000
DTEND;TZID=Europe/Amsterdam:20180410T200000
DTSTAMP:20260425T033827
CREATED:20180323T102810Z
LAST-MODIFIED:20180323T102810Z
UID:2651-1523381400-1523390400@nljug.org
SUMMARY:Battle on the JVM – 10 april 2018 – Quintor Amersfoort
DESCRIPTION:Battle on the JVM – 10 april 2018 – Quintor Amersfoort\nBij Quintor zijn we dol op programmeren. Naast Java houden we ook van talen zoals Kotlin en Scala. Deze avond behandelen we deze talen in het kort en zetten onze experts de voor- en nadelen tegen elkaar af. Niet alleen de taalaspecten komen aan de orde\, maar ook de toepassing ervan binnen een organisatie. We gaan met elkaar en het publiek in discussie. Dus\, deel je ook graag jouw kennis hierover of ben je gewoonweg nieuwsgierig geworden? Meld je dan hier aan! \nProgramma\n17:30 uur Ontvangst met warme maaltijd\n18:30 uur Presentaties over Java\, Kotlin en Scala\n19:15 uur Pauze\n19:30 uur Panelsessie\n20:00 uur Drinks & discussions \nAan deze sessie zijn geen kosten verbonden. Er is voldoende (gratis) parkeergelegenheid.
URL:https://nljug.org/evenement/battle-jvm-10-april-2018-quintor-amersfoort/
CATEGORIES:Partner events
ATTACH;FMTTYPE=image/png:https://nljug.org/wp-content/uploads/2018/03/quintor.png
END:VEVENT
BEGIN:VEVENT
DTSTART;TZID=Europe/Amsterdam:20180414T093000
DTEND;TZID=Europe/Amsterdam:20180414T123000
DTSTAMP:20260425T033827
CREATED:20180321T150250Z
LAST-MODIFIED:20180321T150250Z
UID:2645-1523698200-1523709000@nljug.org
SUMMARY:Devoxx4Kids 14 april in Amersfoort
DESCRIPTION:Devoxx4Kids 14 april in Amersfoort\nLaat jouw zoon of dochter ervaren hoe gaaf programmeren is! \nBij OpenValue doen we wat we leuk vinden: mooie software bouwen met aansprekende technologie. We delen graag onze kennis\, kunde en enthousiasme. Op zaterdag 14 april heten we graag kinderen tussen de 10 en 14 jaar welkom voor een drietal inspirerende programmeerworkshops op ons kantoor in Amersfoort. \nInhoud \nWe hebben de beschikking over een heuse robot\, gaan met bewegingsdetectie aan de slag en hebben een IoT bendoo box waarmee we deelnemers op laagdrempelige wijze kennis laten maken met het mooiste vak dat er is. \nHet programma \nDe dag start vanaf 9:30 uur met registratie. We sluiten rond 12.30 uur af. De ouders kunnen trots meekijken wat er in de workshops wordt ontwikkeld door de kids. Deelnemen is gratis en we zorgen voor een lekkere lunch na afloop. \nLocatie \nAtoomclub Amersfoort\, Maanlander 47. Ruim voldoende parkeergelegenheid aanwezig. \nInschrijven \nOpgeven kan door een mail te sturen naar devoxx4kids@openvalue.nl. Vermeld hierin het volgende: \n\nJouw (voor- en achter) naam\nJe leeftijd\nDe naam van een van je ouders/verzorgers + mobiele nummer\nJe Adres\, mail en telefoonnummer\nOf je eerder hebt meegedaan aan Devoxx4kids\nEventuele dieetwensen\n\nVragen? Bel Roy Wasse: 06 5265 9373 \nGraag tot de 14e! \nTeam OpenValue
URL:https://nljug.org/evenement/devoxx4kids-14-april-amersfoort/
CATEGORIES:Partner events
ATTACH;FMTTYPE=image/png:https://nljug.org/wp-content/uploads/2018/03/openvalue-bw.png
END:VEVENT
BEGIN:VEVENT
DTSTART;VALUE=DATE:20180416
DTEND;VALUE=DATE:20180417
DTSTAMP:20260425T033827
CREATED:20180301T133906Z
LAST-MODIFIED:20180301T133906Z
UID:2526-1523836800-1523923199@nljug.org
SUMMARY:Camunda BPM for Java Developers - Camunda
DESCRIPTION:In our three-day training for developers we prepare you for using the open source Camunda BPM platform successfully in your own projects. Camunda BPM can be used as a lightweight workflow engine\, as a BPM Platform or as the core component of your company wide SOA. \nMeer informatie & aanmelden
URL:https://nljug.org/evenement/camunda-bpm-java-developers-camunda-2/
CATEGORIES:Partner events
ATTACH;FMTTYPE=image/png:https://nljug.org/wp-content/uploads/2018/03/download.png
END:VEVENT
BEGIN:VEVENT
DTSTART;VALUE=DATE:20180417
DTEND;VALUE=DATE:20180418
DTSTAMP:20260425T033827
CREATED:20180227T132950Z
LAST-MODIFIED:20180227T132950Z
UID:2503-1523923200-1524009599@nljug.org
SUMMARY:Innovatos Plaza 2018 - Atos (Eindhoven)
DESCRIPTION:Join us at our innovative and network event and we will show you the latest technology and innovations: Artificial Intelligence\, smart things\, robotics\, augmented reality and a diversity of other technologies we already use in our daily life and which are rapidly taking over all the old ways of working. Our experts will be available at a stand and will throughout the evening present continuous sessions\, breakouts and workshops. All our experts are looking forward on meeting you and showing you their innovations and projects about data analytics\, blockchain\, security\, hybrid cloud\, low coding platforms\, SAP/HANA and much more. \nMeer informatie & aanmelden
URL:https://nljug.org/evenement/innovatos-plaza-2018-atos-eindhoven/
CATEGORIES:Partner events
ATTACH;FMTTYPE=image/jpeg:https://nljug.org/wp-content/uploads/2018/02/Atos.jpg
END:VEVENT
BEGIN:VEVENT
DTSTART;TZID=Europe/Amsterdam:20180417T173000
DTEND;TZID=Europe/Amsterdam:20180417T220000
DTSTAMP:20260425T033827
CREATED:20180319T134258Z
LAST-MODIFIED:20180319T134258Z
UID:2643-1523986200-1524002400@nljug.org
SUMMARY:Don't hack the platform & Distributed computing with the Netflix OSS
DESCRIPTION:Wat we doen\n\nAgenda\n17:30 – 18:00 : Doors open\n18:00 – 18:45 : Special 2nd Birthday buffet\n18:45 – 19:45 : Anticipating the fallacies of distributed computing with the Netflix OSS\, Tom Cools\n19:45 – 20:00 : Break\n20:00 – 21:00 : Don’t hack the platform? ☠💣💥\, Jan Ouwens\n21:00 – 22:00 : Drinks and amazing surprise act !!! \n=============================================================\nTwo years Utrecht JUG \nTwo years ago we started the Utrecht Java User Group. To celebrate our second birthday we have an amazing surprise act after the talks. Be sure you stay until the end\, because you don’t want to miss it. This meetup will be hosted by CodeSquad. \nGiveaways \n– 3 free tickets for the TEQnation conference: http://teqnation.nl/\n– 2 free tickets for the Joy of Coding conference: http://joyofcoding.org\n– 1 free ticket for the JSpring conference: http://jspring.nl\n– 1 free JetBrains licence\n============================================================= \nAbout the talks \nAnticipating the fallacies of distributed computing with the Netflix OSS\, Tom Cools
URL:https://nljug.org/evenement/dont-hack-platform-distributed-computing-netflix-oss/
CATEGORIES:Partner events
ATTACH;FMTTYPE=image/jpeg:https://nljug.org/wp-content/uploads/2018/02/LTHrG6DQ_400x400.jpg
END:VEVENT
BEGIN:VEVENT
DTSTART;TZID=Europe/Amsterdam:20180425T080000
DTEND;TZID=Europe/Amsterdam:20180426T170000
DTSTAMP:20260425T033827
CREATED:20180301T134227Z
LAST-MODIFIED:20180301T134227Z
UID:2528-1524643200-1524762000@nljug.org
SUMMARY:TEQnation
DESCRIPTION:In practise TEQnation will present tracks such as Internet of Things\, Machine Learning\, AI\, Big Data\, VR & AR\, Blockchain\, OpenSource Cloud and DevOps. Moreover TEQnation offers workshops\, keynotes\, demozones\, meet the speaker sessions\, networking sessions\, round table discussions\, Open debates\, hackatons and more. To satisfy the needs of each individual visitor. TEQnation is split into two days with 2 different themes\, so visitors can choose the day in which their interest lies the most. \nMeer informatie & aanmelden
URL:https://nljug.org/evenement/teqnation/
CATEGORIES:Partner events
ATTACH;FMTTYPE=image/png:https://nljug.org/wp-content/uploads/2018/03/2017_ReShift_Events.png
END:VEVENT
END:VCALENDAR